BEGIN:VCALENDAR
PRODID:NingEventWidget-v1
VERSION:2.0
METHOD:PUBLISH
BEGIN:VTIMEZONE
TZID:Europe/Paris
X-LIC-LOCATION:Europe/Paris
BEGIN:DAYLIGHT
TZOFFSETFROM:+0100
TZOFFSETTO:+0200
TZNAME:CEST
DTSTART:19700329T020000
RRULE:FREQ=YEARLY;BYMONTH=3;BYDAY=-1SU
END:DAYLIGHT
BEGIN:STANDARD
TZOFFSETFROM:+0200
TZOFFSETTO:+0100
TZNAME:CET
DTSTART:19701025T030000
RRULE:FREQ=YEARLY;BYMONTH=10;BYDAY=-1SU
END:STANDARD
END:VTIMEZONE
BEGIN:VEVENT
UID:6339722:Event:182799
DTSTAMP:20260423T175551Z
SUMMARY:Festival au Pont du Rock - 23e édition
DESCRIPTION:VENDREDI 26 JUILLET\n # Wax Tailor # Kavinsky # Stupeflip 
 # Breton # The BellRays # Birth Of Joy # Buster Shuffle # The 1969 Clu
 b # Twelve Feet Under  SAMEDI 27 JUILLET  # Les Ogres de Barback # Oli
 via Ruiz # Arno # 1995 # The Jim Jones Revue # Féfé # Lescop # Carbo
 n Airways # The Hyènes # San’Jyla # The Popopopops # The Struts # L
 ittle Trouble Kids # Yosh dub The Clash  Animation entre le deux jours
  : la banda du Sud « Lous Cailhabaris »  PROGRAMMATION : http://www.
 aupontdurock.com/programmation-festival-2013.html  TEASER VIDEO :  ht
 tp://www.dailymotion.com/video/x10m0c0_au-pont-du-rock-festival-2013_m
 usic  PLAYLIST DEEZER : http://www.deezer.com/fr/playlist/353858095  
 BILLETERIE : http://www.aupontdurock.com/billetterie-festival-au-pont
 -du-rock-2013-bretagne.html  Prix sur réservations (hors frais de loc
 ation) : Forfait 2 jours : 44€ Vendredi 26 Juillet : 26€ Samedi 27
  Juillet : 32€  Prix sur place : Forfait 2 jours 54€ Vendredi 26 J
 uillet : 30€ Samedi 27 Juillet : 36 €  L'entrée est gratuite pour
  les moins de 12 ans  On vous rappelle que toute sortie est définitiv
 e.  TRANSPORTS ET INFOS PRATIQUES : http://www.aupontdurock.com/infor
 mations-pratiques-festival-morbihan-bretagne.html  PRESSE : http://ww
 w.aupontdurock.com/presse.html  Plus d'infos : http://www.aupontduroc
 k.com/\n\nPour en savoir plus, rendez-vous sur http://www.breizhbook.c
 om/events/festival-au-pont-du-rock-23e-dition
DTSTART;TZID=Europe/Paris:20130726T000000
DTEND;TZID=Europe/Paris:20130727T235900
CATEGORIES:festival, rock, bretagne, juillet, 2013
LOCATION:Espace Maurice Mélois
WEBSITE:http://www.aupontdurock.com/
URL:http://www.aupontdurock.com/
CONTACT:02 97 73 76 91
ORGANIZER:Association Aux Arts Etc
ATTACH;FMTTYPE="image/jpeg":http://storage.ning.com/topology/rest/1.0/
 file/get/3198356945?profile=original
ATTENDEE;ROLE=REQ-PARTICIPANT;PARTSTAT=ACCEPTED;RSVP=TRUE;CN="Tony Bla
 nchet":http://www.breizhbook.com/profile/TonyBlanchet
ATTENDEE;ROLE=REQ-PARTICIPANT;PARTSTAT=ACCEPTED;RSVP=TRUE;CN="Au Pont 
 du Rock":http://www.breizhbook.com/profile/auPontduRock
END:VEVENT
END:VCALENDAR
