BEGIN:VCALENDAR
PRODID:NingEventWidget-v1
VERSION:2.0
METHOD:PUBLISH
BEGIN:VTIMEZONE
TZID:Europe/Paris
X-LIC-LOCATION:Europe/Paris
BEGIN:DAYLIGHT
TZOFFSETFROM:+0100
TZOFFSETTO:+0200
TZNAME:CEST
DTSTART:19700329T020000
RRULE:FREQ=YEARLY;BYMONTH=3;BYDAY=-1SU
END:DAYLIGHT
BEGIN:STANDARD
TZOFFSETFROM:+0200
TZOFFSETTO:+0100
TZNAME:CET
DTSTART:19701025T030000
RRULE:FREQ=YEARLY;BYMONTH=10;BYDAY=-1SU
END:STANDARD
END:VTIMEZONE
BEGIN:VEVENT
UID:6339722:Event:79951
DTSTAMP:20260423T163759Z
SUMMARY:Festival au Pont du Rock 2012
DESCRIPTION:\n\nPROGRAMMATIONhttp://www.aupontdurock.com/programmation
 -festival-au-pont-du-rock-2012-bretagne.htmlBILLETTERIEhttp://www.aupo
 ntdurock.com/billetterie-festival-au-pont-du-rock-2011-bretagne.htmlPR
 ESSE : http://www.aupontdurock.com/presse.htmlINFOS PRATIQUES : http
 ://www.aupontdurock.com/informations-pratiques-festival-morbihan-breta
 gne.htmlCOVOITURAGEhttp://agenda.covoiturage.fr/festival/2944-festival
 -au-pont-du-rockhttp://www.covoiturage.morbihan.fr/http://www.festival
 srock.com/Covoiturage-Festivals-88.htmlBUS Tim n°4 (2€ depuis Vanne
 s) : http://www.morbihan.fr/dossier/default.aspx?arbo2=4&arbo3=14&thm
 =NAV_SERVICEhttp://www.breizhgo.com/bretagnePlus d'infos : http://www
 .aupontdurock.com/\n\n\n\n\n\nPour en savoir plus, rendez-vous sur htt
 p://www.breizhbook.com/events/festival-au-pont-du-rock-2012
DTSTART;TZID=Europe/Paris:20120727T000000
DTEND;TZID=Europe/Paris:20120728T235900
CATEGORIES:festival, musique, bretagne
LOCATION:Malestroit, Morbihan
WEBSITE:http://www.aupontdurock.com/
URL:http://www.aupontdurock.com/
CONTACT:02 97 73 76 91
ORGANIZER;CN="Au Pont du Rock":http://www.breizhbook.com/profile/auPon
 tduRock
ATTACH;FMTTYPE="image/jpeg":http://storage.ning.com/topology/rest/1.0/
 file/get/3151680700?profile=original
ATTENDEE;ROLE=REQ-PARTICIPANT;PARTSTAT=ACCEPTED;RSVP=TRUE;CN="Au Pont 
 du Rock":http://www.breizhbook.com/profile/auPontduRock
ATTENDEE;ROLE=REQ-PARTICIPANT;PARTSTAT=ACCEPTED;RSVP=TRUE;CN="Tony Bla
 nchet":http://www.breizhbook.com/profile/TonyBlanchet
END:VEVENT
END:VCALENDAR
