BEGIN:VCALENDAR
PRODID:NingEventWidget-v1
VERSION:2.0
METHOD:PUBLISH
BEGIN:VTIMEZONE
TZID:Europe/Paris
X-LIC-LOCATION:Europe/Paris
BEGIN:DAYLIGHT
TZOFFSETFROM:+0100
TZOFFSETTO:+0200
TZNAME:CEST
DTSTART:19700329T020000
RRULE:FREQ=YEARLY;BYMONTH=3;BYDAY=-1SU
END:DAYLIGHT
BEGIN:STANDARD
TZOFFSETFROM:+0200
TZOFFSETTO:+0100
TZNAME:CET
DTSTART:19701025T030000
RRULE:FREQ=YEARLY;BYMONTH=10;BYDAY=-1SU
END:STANDARD
END:VTIMEZONE
BEGIN:VEVENT
UID:6339722:Event:150480
DTSTAMP:20260423T181324Z
SUMMARY:Fest-noz Sartrouville (78)
DESCRIPTION:Demandez le programme !\nLes Sonneurs à Bretelles pour ch
 auffer le parquet.\n La soirée se poursuivra avec :  * Les chanteurs 
 Yann-Fañch Kemener et Yannick Dabo * Le groupe Estren * Le groupe Kaz
 dall\n\nLes changements de plateau seront assurés par les KeM Biz.\nC
 rêpes et boissons sur place.\n\nPAF : 8 €.\nToutes les infos sur ce
 tte page.\n\nPour en savoir plus, rendez-vous sur http://www.breizhboo
 k.com/events/fest-noz-1
DTSTART;TZID=Europe/Paris:20130413T000000
DTEND;TZID=Europe/Paris:20130413T235900
CATEGORIES:fest-noz
LOCATION:à l'Espace Gérard Philippe
WEBSITE:http://sartrouville.gwalarn.org/articles.php?lng=fr&pg=2763
URL:http://sartrouville.gwalarn.org/articles.php?lng=fr&pg=2763
CONTACT:06 80 28 74 45
ORGANIZER;CN=rvknobzh:http://www.breizhbook.com/profile/knobzh
ATTACH;FMTTYPE="image/jpeg":http://storage.ning.com/topology/rest/1.0/
 file/get/3198332935?profile=original
ATTENDEE;ROLE=REQ-PARTICIPANT;PARTSTAT=ACCEPTED;RSVP=TRUE;CN=rvknobzh:
 http://www.breizhbook.com/profile/knobzh
END:VEVENT
END:VCALENDAR
