BEGIN:VCALENDAR
PRODID:NingEventWidget-v1
VERSION:2.0
METHOD:PUBLISH
BEGIN:VTIMEZONE
TZID:Europe/Paris
X-LIC-LOCATION:Europe/Paris
BEGIN:DAYLIGHT
TZOFFSETFROM:+0100
TZOFFSETTO:+0200
TZNAME:CEST
DTSTART:19700329T020000
RRULE:FREQ=YEARLY;BYMONTH=3;BYDAY=-1SU
END:DAYLIGHT
BEGIN:STANDARD
TZOFFSETFROM:+0200
TZOFFSETTO:+0100
TZNAME:CET
DTSTART:19701025T030000
RRULE:FREQ=YEARLY;BYMONTH=10;BYDAY=-1SU
END:STANDARD
END:VTIMEZONE
BEGIN:VEVENT
UID:6339722:Event:129864
DTSTAMP:20260423T181720Z
SUMMARY:fashionmen fashio
DESCRIPTION:Odds are for those who have flown on 2011 Oakley Sunglasse
 s an plane not long ago you've got a minimum of heard of the sky shopp
 ing mall. The sky shopping mall is basically what it seems like, a mal
 l Oakley Active Sunglasses while in the sky. It can be not a bodily ma
 ll on an plane with retailers. It truly is a catalog discovered on Oak
 ley Ducati Scalpel airplanes with every kind of fascinating details. E
 ven though you happen to be Oakley Jacket flying you are able to flick
  through the catalog and pick every kind of remarkable reward strategi
 es and get them organized by a 1-800 quantity or on the web. Some airw
 ays also oakley sunglasses offer distinctive specials in the event you
  location an order though that you are flying.\nOakley Radar Range Jus
 t what exactly variety of remarkable objects is it possible to find du
 ring the sky shopping mall? Well, you'll find all kinds of electronic 
 products, lots of of which can not be observed in outlets. One excelle
 nt electronic product is definitely the \"Icuiti's iWear\". For anyone
  Oakley Minute 2.0 folks that have video clip iPods, this system plugs
  in the bottom. Then, you set over a your iWear, which happens to be l
 ike using sunglasses. The glasses help you see the screen for a signif
 icant 36\" monitor instead of the 2\" monitor around the iPod. So, it 
 doesn't matter in which you go, you may have your own personal private
  theater. Selling price selection is somewhere around $299 to $499.\nT
 he Sky Mall even has tiny home Oakley Stephen Murray Oakley Sunglasses
  Polarized appliances. 1 excellent kitchen area equipment will be the 
 \"Pop-Up Scorching Pet Cooker\". That is basically just like a toaster
 , besides made for hotdogs. It's sufficient area for two sizzling dogs
  and two buns. Exactly like an everyday toaster, this allows you to se
 lect just how toasted you want your warm dogs. This neat equipment is 
 priced around $49.ninety five. Not a nasty deal! One other fantastic k
 itchen area equipment offered with the Sky Shopping mall is the \"Soft
 /Hard Ice Cream Maker\". For approximately $60 you'll be able to cheap
  oakleys make your very own delicate serve ice cream at your house. Th
 e machine can make plenty of ice cream to create 8 cones. The device c
 ould also make sherbet, frozen yogurt, and slushes.\nThe Sky Shopping 
 mall also has a good amount of things for pet lovers. You may invest i
 n considered one of a number of distinct pet beds to your furry close 
 friends. You'll be able to also invest in the \"Pet Staircase\". This 
 miniature staircase helps small or disabled dogs get on items, like ho
 me furniture less complicated. Prices for your staircases vary relying
  within the size. Selling prices commonly range between $80 to $150. W
 hat else can you get to your pets? Electronic feeders that allow your 
 pet to receive fed a specific volume of meals at sure periods. This un
 questionably is available in helpful whilst you happen to be outside o
 f town. The Sky Shopping mall also has electronic ingesting fountains 
 so your pets have new jogging water. Naturally, this can be just for t
 he most spoiled pets!\nThe Sky Mall contains a wide array of objects a
 ccessible for order. Search through the catalog and make purchases wit
 hout the need of even leaving your seat! In the event you can't Oakley
  Jacket determine what to buy or are needing a fast gift, the Sky Shop
 ping mall presents reward certificates. What a great gift!\nTo find ou
 t more name 1-800-SkyMall or pay a visit to their internet site at xxx
  and see more with the remarkable products out there.\n\nPour en savoi
 r plus, rendez-vous sur http://www.breizhbook.com/events/fashionmen-fa
 shio
DTSTART;TZID=Europe/Paris:20120816T180000
DTEND;TZID=Europe/Paris:20120816T190000
CATEGORIES:fashion, sunglasses
LOCATION:fashion sunglasses
WEBSITE:http://www.oakleyuksunglass.co.uk/
URL:http://www.oakleyuksunglass.co.uk/
CONTACT:
ORGANIZER;CN=annyanny:http://www.breizhbook.com/profile/annyanny
ATTACH;FMTTYPE="image/jpeg":
ATTENDEE;ROLE=REQ-PARTICIPANT;PARTSTAT=ACCEPTED;RSVP=TRUE;CN=annyanny:
 http://www.breizhbook.com/profile/annyanny
END:VEVENT
END:VCALENDAR
