BEGIN:VCALENDAR
PRODID:NingEventWidget-v1
VERSION:2.0
METHOD:PUBLISH
BEGIN:VTIMEZONE
TZID:Europe/Paris
X-LIC-LOCATION:Europe/Paris
BEGIN:DAYLIGHT
TZOFFSETFROM:+0100
TZOFFSETTO:+0200
TZNAME:CEST
DTSTART:19700329T020000
RRULE:FREQ=YEARLY;BYMONTH=3;BYDAY=-1SU
END:DAYLIGHT
BEGIN:STANDARD
TZOFFSETFROM:+0200
TZOFFSETTO:+0100
TZNAME:CET
DTSTART:19701025T030000
RRULE:FREQ=YEARLY;BYMONTH=10;BYDAY=-1SU
END:STANDARD
END:VTIMEZONE
BEGIN:VEVENT
UID:6339722:Event:121619
DTSTAMP:20260423T181327Z
SUMMARY:fasdfasdfasdf
DESCRIPTION:fsadfasdfsad\n\nPour en savoir plus, rendez-vous sur http:
 //www.breizhbook.com/events/fasdfasdfasdf
DTSTART;TZID=Europe/Paris:20120601T180000
DTEND;TZID=Europe/Paris:20120601T190000
CATEGORIES:fdas
LOCATION:fdsaf
WEBSITE:
URL:
CONTACT:
ORGANIZER;CN="asdfg asdf green":http://www.breizhbook.com/profile/asdf
 gasdfgreen
ATTACH;FMTTYPE="image/jpeg":
ATTENDEE;ROLE=REQ-PARTICIPANT;PARTSTAT=ACCEPTED;RSVP=TRUE;CN="asdfg as
 df green":http://www.breizhbook.com/profile/asdfgasdfgreen
END:VEVENT
END:VCALENDAR
