BEGIN:VCALENDAR
PRODID:NingEventWidget-v1
VERSION:2.0
METHOD:PUBLISH
BEGIN:VTIMEZONE
TZID:Europe/Paris
X-LIC-LOCATION:Europe/Paris
BEGIN:DAYLIGHT
TZOFFSETFROM:+0100
TZOFFSETTO:+0200
TZNAME:CEST
DTSTART:19700329T020000
RRULE:FREQ=YEARLY;BYMONTH=3;BYDAY=-1SU
END:DAYLIGHT
BEGIN:STANDARD
TZOFFSETFROM:+0200
TZOFFSETTO:+0100
TZNAME:CET
DTSTART:19701025T030000
RRULE:FREQ=YEARLY;BYMONTH=10;BYDAY=-1SU
END:STANDARD
END:VTIMEZONE
BEGIN:VEVENT
UID:6339722:Event:181439
DTSTAMP:20260423T164045Z
SUMMARY:Faites un geste aujourd'hui pour les générations à venir
DESCRIPTION:C'est de la dynamique !  A voir pour ne pas dire si j'ava
 is su !  Ne manquez surtout pas d’assister à la présentation Wor(l
 )d NRG Pure  Identifier vous comme ceci !  Invités  anthony44 + votr
 e Prénom + Pays  http://succes4you.videowebmeet.com/  Connectez vous 
 10 minutes avant, si nécessaire pour faire vos différents réglages.
   Investisseur : Faite un placement rentable. Développeur : Une sourc
 e de revenus à la hauteur de toutes vos ambitions.  Cordialement\nVot
 re sponsor Anthony44\n\nPour en savoir plus, rendez-vous sur http://ww
 w.breizhbook.com/events/faites-un-geste-aujourd-hui-pour-les-g-n-ratio
 ns-venir-2
DTSTART;TZID=Europe/Paris:20130604T083000
DTEND;TZID=Europe/Paris:20130604T093000
CATEGORIES:power, cloud, -, nous, pouvons, changer, le, monde
LOCATION:Dans votre canapé
WEBSITE:http://www.powerclouds.com/?lang=fr
URL:http://www.powerclouds.com/?lang=fr
CONTACT:
ORGANIZER;CN="Anthony Worlder":http://www.breizhbook.com/profile/Antho
 nyWorlder
ATTACH;FMTTYPE="image/jpeg":http://storage.ning.com/topology/rest/1.0/
 file/get/3198355241?profile=original
ATTENDEE;ROLE=REQ-PARTICIPANT;PARTSTAT=ACCEPTED;RSVP=TRUE;CN="Anthony 
 Worlder":http://www.breizhbook.com/profile/AnthonyWorlder
END:VEVENT
END:VCALENDAR
