BEGIN:VCALENDAR
PRODID:NingEventWidget-v1
VERSION:2.0
METHOD:PUBLISH
BEGIN:VTIMEZONE
TZID:Europe/Paris
X-LIC-LOCATION:Europe/Paris
BEGIN:DAYLIGHT
TZOFFSETFROM:+0100
TZOFFSETTO:+0200
TZNAME:CEST
DTSTART:19700329T020000
RRULE:FREQ=YEARLY;BYMONTH=3;BYDAY=-1SU
END:DAYLIGHT
BEGIN:STANDARD
TZOFFSETFROM:+0200
TZOFFSETTO:+0100
TZNAME:CET
DTSTART:19701025T030000
RRULE:FREQ=YEARLY;BYMONTH=10;BYDAY=-1SU
END:STANDARD
END:VTIMEZONE
BEGIN:VEVENT
UID:6339722:Event:116371
DTSTAMP:20260423T192925Z
SUMMARY:fête du nautisme chez Cardinale sud
DESCRIPTION:baptême gratuit en voile légère et en kayak de mer\nins
 cription sur place à la plage de Port Manec'h à l'accueil du club na
 utique Cardinale Sud\n\nPour en savoir plus, rendez-vous sur http://ww
 w.breizhbook.com/events/f-te-du-nautisme-chez-cardinale-sud
DTSTART;TZID=Europe/Paris:20120512T140000
DTEND;TZID=Europe/Paris:20120513T180000
CATEGORIES:fête, du, nautisme
LOCATION:voile
WEBSITE:http://www.cardinalesud.fr
URL:http://www.cardinalesud.fr
CONTACT:02 98 06 71 98
ORGANIZER;CN="Cardinale Sud":http://www.breizhbook.com/profile/Cardina
 leSud
ATTACH;FMTTYPE="image/jpeg":http://storage.ning.com/topology/rest/1.0/
 file/get/3198315753?profile=original
ATTENDEE;ROLE=REQ-PARTICIPANT;PARTSTAT=ACCEPTED;RSVP=TRUE;CN="Cardinal
 e Sud":http://www.breizhbook.com/profile/CardinaleSud
END:VEVENT
END:VCALENDAR
