BEGIN:VCALENDAR
PRODID:NingEventWidget-v1
VERSION:2.0
METHOD:PUBLISH
BEGIN:VTIMEZONE
TZID:Europe/Paris
X-LIC-LOCATION:Europe/Paris
BEGIN:DAYLIGHT
TZOFFSETFROM:+0100
TZOFFSETTO:+0200
TZNAME:CEST
DTSTART:19700329T020000
RRULE:FREQ=YEARLY;BYMONTH=3;BYDAY=-1SU
END:DAYLIGHT
BEGIN:STANDARD
TZOFFSETFROM:+0200
TZOFFSETTO:+0100
TZNAME:CET
DTSTART:19701025T030000
RRULE:FREQ=YEARLY;BYMONTH=10;BYDAY=-1SU
END:STANDARD
END:VTIMEZONE
BEGIN:VEVENT
UID:6339722:Event:97819
DTSTAMP:20260423T175209Z
SUMMARY:Fête du Breton
DESCRIPTION:Fête du Breton, à Plouay (56), avec un marché tradition
 nel le matin à partir de 8h30, animation musicale, repas et danses à
  la salle des fêtes, spectacles des enfants et d'autres surprises vou
 s attendent !\nInscription obligatoire avant le 5 avril pour le repas 
 du midi !\n\nPour en savoir plus, rendez-vous sur http://www.breizhboo
 k.com/events/f-te-du-breton
DTSTART;TZID=Europe/Paris:20120429T000000
DTEND;TZID=Europe/Paris:20120429T235900
CATEGORIES:fête, organisée, par, "l'association", de, la, filière, 
 bilingue, des, écoles, publiques, plouay
LOCATION:Plouay, Morbihan
WEBSITE:http://filiere-bilingue-plouay.fr
URL:http://filiere-bilingue-plouay.fr
CONTACT:
ORGANIZER;CN="Skol an Amzer da Zont Ploue":http://www.breizhbook.com/p
 rofile/SkolanAmzerdaZontPloue
ATTACH;FMTTYPE="image/jpeg":
ATTENDEE;ROLE=REQ-PARTICIPANT;PARTSTAT=ACCEPTED;RSVP=TRUE;CN="Skol an 
 Amzer da Zont Ploue":http://www.breizhbook.com/profile/SkolanAmzerdaZo
 ntPloue
END:VEVENT
END:VCALENDAR
