BEGIN:VCALENDAR
PRODID:NingEventWidget-v1
VERSION:2.0
METHOD:PUBLISH
BEGIN:VTIMEZONE
TZID:Europe/Paris
X-LIC-LOCATION:Europe/Paris
BEGIN:DAYLIGHT
TZOFFSETFROM:+0100
TZOFFSETTO:+0200
TZNAME:CEST
DTSTART:19700329T020000
RRULE:FREQ=YEARLY;BYMONTH=3;BYDAY=-1SU
END:DAYLIGHT
BEGIN:STANDARD
TZOFFSETFROM:+0200
TZOFFSETTO:+0100
TZNAME:CET
DTSTART:19701025T030000
RRULE:FREQ=YEARLY;BYMONTH=10;BYDAY=-1SU
END:STANDARD
END:VTIMEZONE
BEGIN:VEVENT
UID:6339722:Event:174522
DTSTAMP:20260423T181324Z
SUMMARY:Fête de la nature
DESCRIPTION:du 22 au 26 mais portes ouvertes sur la nature au camping\
 n\nPour en savoir plus, rendez-vous sur http://www.breizhbook.com/even
 ts/f-te-de-la-nature
DTSTART;TZID=Europe/Paris:20130522T180000
DTEND;TZID=Europe/Paris:20130526T190000
CATEGORIES:portes, ouvertes
LOCATION:camping la fontaine du hallate en Morbihan
WEBSITE:http://www.camping-en-morbihan.fr
URL:http://www.camping-en-morbihan.fr
CONTACT:0616300833
ORGANIZER;CN="Camping Morbihan":http://www.breizhbook.com/profile/Camp
 ing_Morbihan
ATTACH;FMTTYPE="image/jpeg":
ATTENDEE;ROLE=REQ-PARTICIPANT;PARTSTAT=ACCEPTED;RSVP=TRUE;CN="Camping 
 Morbihan":http://www.breizhbook.com/profile/Camping_Morbihan
END:VEVENT
END:VCALENDAR
