BEGIN:VCALENDAR
PRODID:NingEventWidget-v1
VERSION:2.0
METHOD:PUBLISH
BEGIN:VTIMEZONE
TZID:Europe/Paris
X-LIC-LOCATION:Europe/Paris
BEGIN:DAYLIGHT
TZOFFSETFROM:+0100
TZOFFSETTO:+0200
TZNAME:CEST
DTSTART:19700329T020000
RRULE:FREQ=YEARLY;BYMONTH=3;BYDAY=-1SU
END:DAYLIGHT
BEGIN:STANDARD
TZOFFSETFROM:+0200
TZOFFSETTO:+0100
TZNAME:CET
DTSTART:19701025T030000
RRULE:FREQ=YEARLY;BYMONTH=10;BYDAY=-1SU
END:STANDARD
END:VTIMEZONE
BEGIN:VEVENT
UID:6339722:Event:132578
DTSTAMP:20260423T162059Z
SUMMARY:Fête de la Gastronomie: Des repas pour 2 à gagner
DESCRIPTION:Au programme: - Des Menus spéciaux \"Fête de la Gastrono
 mie\" sur le thème Terroirs, création et tradition\n- l'opération V
 enez à 2, un menu offert\n- 3 repas pour 2 personnes (Restaurant BW C
 eltique Plus, Restaurant du Tumulus, Relais de Kergou) sont à gagner 
 par tirage au sort à l’occasion de la Fête de la Gastronomie.\nPou
 r participer, envoyer un mail avant le 20 septembre à animation@morbi
 han-sud.com en précisant en objet FETE GASTRONOMIE.\n\nPour en savoir
  plus, rendez-vous sur http://www.breizhbook.com/events/f-te-de-la-gas
 tronomie-des-repas-pour-2-gagner
DTSTART;TZID=Europe/Paris:20120922T000000
DTEND;TZID=Europe/Paris:20120922T235900
CATEGORIES:fête, gastronomie
LOCATION:Pays Auray
WEBSITE:http://www.morbihan-sud.com/Morbihan_sud_Bretagne_Acteurs_du_t
 ourisme,20,74,150,592.htm
URL:http://www.morbihan-sud.com/Morbihan_sud_Bretagne_Acteurs_du_touri
 sme,20,74,150,592.htm
CONTACT:
ORGANIZER;CN="Vacances Morbihan Sud":http://www.breizhbook.com/profile
 /VacancesMorbihanSud
ATTACH;FMTTYPE="image/jpeg":http://storage.ning.com/topology/rest/1.0/
 file/get/3198325521?profile=original
ATTENDEE;ROLE=REQ-PARTICIPANT;PARTSTAT=ACCEPTED;RSVP=TRUE;CN="Vacances
  Morbihan Sud":http://www.breizhbook.com/profile/VacancesMorbihanSud
END:VEVENT
END:VCALENDAR
