BEGIN:VCALENDAR
PRODID:NingEventWidget-v1
VERSION:2.0
METHOD:PUBLISH
BEGIN:VTIMEZONE
TZID:Europe/Paris
X-LIC-LOCATION:Europe/Paris
BEGIN:DAYLIGHT
TZOFFSETFROM:+0100
TZOFFSETTO:+0200
TZNAME:CEST
DTSTART:19700329T020000
RRULE:FREQ=YEARLY;BYMONTH=3;BYDAY=-1SU
END:DAYLIGHT
BEGIN:STANDARD
TZOFFSETFROM:+0200
TZOFFSETTO:+0100
TZNAME:CET
DTSTART:19701025T030000
RRULE:FREQ=YEARLY;BYMONTH=10;BYDAY=-1SU
END:STANDARD
END:VTIMEZONE
BEGIN:VEVENT
UID:6339722:Event:124631
DTSTAMP:20260423T192917Z
SUMMARY:fÃªte de l'Ã©cole publique de GaÃ«l ( les PrÃ©s Verts)
DESCRIPTION:restauration sur place possible avec :Â  galettes saucisse
 s (2â‚¬) ou crÃªpes (1â‚¬ les trois) , glacesÂ  et une buvette.\nle sp
 ectacle des enfants dÃ©butÂ  vers 15h 30.\npÃªche Ã  la ligne\nÂ chamb
 oule tout\nÂ tirs aux but,\nconcours de palets\nÂ billard hollandais,\
 nmaquillage... et bien d'autres choses.\nÂ \nenfin pour finir la journ
 Ã©e le tirage au sort de la tombolaÂ  vers18h30\nVenez nombreux !!!\nÂ
  \n\nPour en savoir plus, rendez-vous sur http://www.breizhbook.com/ev
 ents/f-te-de-l-cole-publique-de-ga-l-les-pr-s-verts
DTSTART;TZID=Europe/Paris:20120624T140000
DTEND;TZID=Europe/Paris:20120624T190000
CATEGORIES:fÃªte, "d'Ã©cole"
LOCATION:cour de l'Ã©cole
WEBSITE:
URL:
CONTACT:
ORGANIZER:APEEPG
ATTACH;FMTTYPE="image/jpeg":
ATTENDEE;ROLE=REQ-PARTICIPANT;PARTSTAT=ACCEPTED;RSVP=TRUE;CN=jaunay:ht
 tp://www.breizhbook.com/profile/jaunay
END:VEVENT
END:VCALENDAR
