BEGIN:VCALENDAR
PRODID:NingEventWidget-v1
VERSION:2.0
METHOD:PUBLISH
BEGIN:VTIMEZONE
TZID:Europe/Paris
X-LIC-LOCATION:Europe/Paris
BEGIN:DAYLIGHT
TZOFFSETFROM:+0100
TZOFFSETTO:+0200
TZNAME:CEST
DTSTART:19700329T020000
RRULE:FREQ=YEARLY;BYMONTH=3;BYDAY=-1SU
END:DAYLIGHT
BEGIN:STANDARD
TZOFFSETFROM:+0200
TZOFFSETTO:+0100
TZNAME:CET
DTSTART:19701025T030000
RRULE:FREQ=YEARLY;BYMONTH=10;BYDAY=-1SU
END:STANDARD
END:VTIMEZONE
BEGIN:VEVENT
UID:6339722:Event:127735
DTSTAMP:20260423T144335Z
SUMMARY:EXPOSITION ESTIVALE
DESCRIPTION:A compter du 16 juillet, Les Copeaux de MERLIN exposent da
 ns le centre ancien de la Cité du Livre de BECHEREL (35), à la Libra
 irie GWRIZIENN.\nC'est l'occasion de fouiner ... ou de prendre un bon 
 café !\n\nPour en savoir plus, rendez-vous sur http://www.breizhbook.
 com/events/exposition-estivale
DTSTART;TZID=Europe/Paris:20120716T180000
DTEND;TZID=Europe/Paris:20120930T190000
CATEGORIES:culture
LOCATION:BECHEREL (35)
WEBSITE:http://www.lescopeauxdemerlin.com/expo-estivale.php
URL:http://www.lescopeauxdemerlin.com/expo-estivale.php
CONTACT:
ORGANIZER;CN="Les copeaux de MERLIN":http://www.breizhbook.com/profile
 /LESCOPEAUXDEMERLIN
ATTACH;FMTTYPE="image/jpeg":http://storage.ning.com/topology/rest/1.0/
 file/get/3198321593?profile=original
ATTENDEE;ROLE=REQ-PARTICIPANT;PARTSTAT=ACCEPTED;RSVP=TRUE;CN="Les cope
 aux de MERLIN":http://www.breizhbook.com/profile/LESCOPEAUXDEMERLIN
END:VEVENT
END:VCALENDAR
