BEGIN:VCALENDAR
PRODID:NingEventWidget-v1
VERSION:2.0
METHOD:PUBLISH
BEGIN:VTIMEZONE
TZID:Europe/Paris
X-LIC-LOCATION:Europe/Paris
BEGIN:DAYLIGHT
TZOFFSETFROM:+0100
TZOFFSETTO:+0200
TZNAME:CEST
DTSTART:19700329T020000
RRULE:FREQ=YEARLY;BYMONTH=3;BYDAY=-1SU
END:DAYLIGHT
BEGIN:STANDARD
TZOFFSETFROM:+0200
TZOFFSETTO:+0100
TZNAME:CET
DTSTART:19701025T030000
RRULE:FREQ=YEARLY;BYMONTH=10;BYDAY=-1SU
END:STANDARD
END:VTIMEZONE
BEGIN:VEVENT
UID:6339722:Event:134101
DTSTAMP:20260423T145406Z
SUMMARY:Exposition de Sculpture Joël STRILL Sculpteur à l' Institut 
 de Thalassothérapie de Quiberon
DESCRIPTION:Exposition de Sculpture Joël STRILL Sculpteur à l' Insti
 tut de Thalassothérapie de Quiberon 56170\n15 Septembre / 30 Octobre 
 2012\n \nhttp://www.strill.fr\n\nPour en savoir plus, rendez-vous sur
  http://www.breizhbook.com/events/exposition-de-sculpture-jo-l-strill-
 sculpteur-l-institut-de
DTSTART;TZID=Europe/Paris:20120930T180000
DTEND;TZID=Europe/Paris:20121030T190000
CATEGORIES:exposition, de, sculpture, joël, strill, sculpteur, à, "l
 '", institut, thalassothérapie, quiberon
LOCATION:Institut de Thalassothérapie de Quiberon 56170
WEBSITE:http://www.strill.fr
URL:http://www.strill.fr
CONTACT:02 97 46 05 48
ORGANIZER;CN="Joël STRILL Sculpteur":http://www.breizhbook.com/profil
 e/JoelSTRILLSculpteur
ATTACH;FMTTYPE="image/jpeg":http://storage.ning.com/topology/rest/1.0/
 file/get/3198325747?profile=original
ATTENDEE;ROLE=REQ-PARTICIPANT;PARTSTAT=ACCEPTED;RSVP=TRUE;CN="Joël ST
 RILL Sculpteur":http://www.breizhbook.com/profile/JoelSTRILLSculpteur
END:VEVENT
END:VCALENDAR
