BEGIN:VCALENDAR
PRODID:NingEventWidget-v1
VERSION:2.0
METHOD:PUBLISH
BEGIN:VTIMEZONE
TZID:Europe/Paris
X-LIC-LOCATION:Europe/Paris
BEGIN:DAYLIGHT
TZOFFSETFROM:+0100
TZOFFSETTO:+0200
TZNAME:CEST
DTSTART:19700329T020000
RRULE:FREQ=YEARLY;BYMONTH=3;BYDAY=-1SU
END:DAYLIGHT
BEGIN:STANDARD
TZOFFSETFROM:+0200
TZOFFSETTO:+0100
TZNAME:CET
DTSTART:19701025T030000
RRULE:FREQ=YEARLY;BYMONTH=10;BYDAY=-1SU
END:STANDARD
END:VTIMEZONE
BEGIN:VEVENT
UID:6339722:Event:150378
DTSTAMP:20260423T163547Z
SUMMARY:Exposition de photographies \"Chypre\"
DESCRIPTION:Dans le cadre de son activité « Bienvenue chez les Chypr
 iotes », la Maison de l’Europe de Brest, en collaboration avec l’
 Office de Tourisme de Chypre, propose une exposition de photographies 
 du 18 février au 1er mars dans les locaux de la Maison de l’Europe 
 de Brest.\n\nA l’occasion l'événement trimestriel « Bienvenue che
 z les Chypriotes », la Maison de l’Europe mettra à l’honneur Chy
 pre qui a assuré la présidence tournante du Conseil de l’Union eur
 opéenne au 2e semestre 2012. L’exposition de photographies sera ina
 ugurée le lundi 18 février à 18h à la Maison de l’Europe (16 rue
  de l’Harteloire) avec une dégustation de produits traditionnels ch
 ypriotes et mise à disposition gratuite de documents sur Chypre.\n\nP
 our en savoir plus, rendez-vous sur http://www.breizhbook.com/events/e
 xposition-de-photographies-chypre
DTSTART;TZID=Europe/Paris:20130218T180000
DTEND;TZID=Europe/Paris:20130301T190000
CATEGORIES:exposition, de, photographies
LOCATION:Maison de l'Europe de Brest
WEBSITE:http://www.maisoneurope-brest.eu/
URL:http://www.maisoneurope-brest.eu/
CONTACT:02 98 46 06 09
ORGANIZER:Maison De l'Europe de Brest
ATTACH;FMTTYPE="image/jpeg":
ATTENDEE;ROLE=REQ-PARTICIPANT;PARTSTAT=ACCEPTED;RSVP=TRUE;CN="Maison D
 e l'Europe Brest":http://www.breizhbook.com/profile/MaisonDelEuropeBre
 st
END:VEVENT
END:VCALENDAR
