BEGIN:VCALENDAR
PRODID:NingEventWidget-v1
VERSION:2.0
METHOD:PUBLISH
BEGIN:VTIMEZONE
TZID:Europe/Paris
X-LIC-LOCATION:Europe/Paris
BEGIN:DAYLIGHT
TZOFFSETFROM:+0100
TZOFFSETTO:+0200
TZNAME:CEST
DTSTART:19700329T020000
RRULE:FREQ=YEARLY;BYMONTH=3;BYDAY=-1SU
END:DAYLIGHT
BEGIN:STANDARD
TZOFFSETFROM:+0200
TZOFFSETTO:+0100
TZNAME:CET
DTSTART:19701025T030000
RRULE:FREQ=YEARLY;BYMONTH=10;BYDAY=-1SU
END:STANDARD
END:VTIMEZONE
BEGIN:VEVENT
UID:6339722:Event:113452
DTSTAMP:20260423T164307Z
SUMMARY:EXPO de ciels et de mers à BREST 16rue Colbert au''montparnas
 se''
DESCRIPTION:12 de mes aquarelles sur zinc seront exposées du 30 avril
  au 2 juin prochains au montparnasse à Brest ( 16 rue Colbert, 1ere r
 ue à gauche en descendant la rue de Siam ).\n\nPour en savoir plus, r
 endez-vous sur http://www.breizhbook.com/events/expo-de-ciels-et-de-me
 rs-brest-16rue-colbert-au-montparnasse
DTSTART;TZID=Europe/Paris:20120430T000000
DTEND;TZID=Europe/Paris:20120602T235900
CATEGORIES:exposition, peinture
LOCATION:Brest, au '' Montparnasse '' (16 rue Colbert).
WEBSITE:http://galloucieletmer.kazeo.com/
URL:http://galloucieletmer.kazeo.com/
CONTACT:
ORGANIZER;CN="Jean-Ba Gallou":http://www.breizhbook.com/profile/gallou
ATTACH;FMTTYPE="image/jpeg":http://storage.ning.com/topology/rest/1.0/
 file/get/3198311996?profile=original
ATTENDEE;ROLE=REQ-PARTICIPANT;PARTSTAT=ACCEPTED;RSVP=TRUE;CN="Jean-Ba 
 Gallou":http://www.breizhbook.com/profile/gallou
END:VEVENT
END:VCALENDAR
