BEGIN:VCALENDAR
PRODID:NingEventWidget-v1
VERSION:2.0
METHOD:PUBLISH
BEGIN:VTIMEZONE
TZID:Europe/Paris
X-LIC-LOCATION:Europe/Paris
BEGIN:DAYLIGHT
TZOFFSETFROM:+0100
TZOFFSETTO:+0200
TZNAME:CEST
DTSTART:19700329T020000
RRULE:FREQ=YEARLY;BYMONTH=3;BYDAY=-1SU
END:DAYLIGHT
BEGIN:STANDARD
TZOFFSETFROM:+0200
TZOFFSETTO:+0100
TZNAME:CET
DTSTART:19701025T030000
RRULE:FREQ=YEARLY;BYMONTH=10;BYDAY=-1SU
END:STANDARD
END:VTIMEZONE
BEGIN:VEVENT
UID:6339722:Event:116044
DTSTAMP:20260423T181324Z
SUMMARY:Expo Art Rez
DESCRIPTION:http://artistesdufinistere.unblog.fr/2012/01/20/a-landeda-
 art-rez-expose-ses-toiles-du-1er-au-8-mai-2012/\n\nPour en savoir plus
 , rendez-vous sur http://www.breizhbook.com/events/expo-art-rez
DTSTART;TZID=Europe/Paris:20120501T000000
DTEND;TZID=Europe/Paris:20120508T235900
CATEGORIES:expo
LOCATION:remplissage
WEBSITE:
URL:
CONTACT:
ORGANIZER:
ATTACH;FMTTYPE="image/jpeg":http://storage.ning.com/topology/rest/1.0/
 file/get/3198313780?profile=original
ATTENDEE;ROLE=REQ-PARTICIPANT;PARTSTAT=ACCEPTED;RSVP=TRUE;CN="eric Per
 on":http://www.breizhbook.com/profile/ericPeron
END:VEVENT
END:VCALENDAR
