BEGIN:VCALENDAR
PRODID:NingEventWidget-v1
VERSION:2.0
METHOD:PUBLISH
BEGIN:VTIMEZONE
TZID:Europe/Paris
X-LIC-LOCATION:Europe/Paris
BEGIN:DAYLIGHT
TZOFFSETFROM:+0100
TZOFFSETTO:+0200
TZNAME:CEST
DTSTART:19700329T020000
RRULE:FREQ=YEARLY;BYMONTH=3;BYDAY=-1SU
END:DAYLIGHT
BEGIN:STANDARD
TZOFFSETFROM:+0200
TZOFFSETTO:+0100
TZNAME:CET
DTSTART:19701025T030000
RRULE:FREQ=YEARLY;BYMONTH=10;BYDAY=-1SU
END:STANDARD
END:VTIMEZONE
BEGIN:VEVENT
UID:6339722:Event:414014
DTSTAMP:20260423T163625Z
SUMMARY:et le conteur chauve... sourit ! ! !
DESCRIPTION:Conteur \"chauve\"... Je \"souris\" en effet par avance du
  bonheur de partager des récits puisés dans les traditions populaire
 s d'ailleurs et d'ici, expliquant l'origine des \"chauve-souris\", et 
 aussi d'autres imaginaires de Bretagne et du monde nous \"enseignant\"
  sur ces \"mammifères endiablés\"... histoires entrelacées de compl
 aintes et autres merveilles... le tout, en complicité humoristique, s
 ans prétention !...\nAvec les plus intrépides, nous prolongerons la 
 soirée par une balade-rencontre nocturne avec des centaines de \"sour
 is chaudes\" sur l’autre rive de la Vilaine, au raz de l’eau !\n--
 ------------\ncette soirée est l'un des \"4 JEuDIS des contes au Boë
 l\"\ncontes et merveilles au bord de l'eau en Pays de Rennes - Vallons
  de Vilaine, à proximité du restaurant \"Le Marin Boël\", en Guiche
 n (Pont-Réan) :\n--> 28 juin, 20h30 : ... et \"le conteur chauve... s
 ourit\" ! ! !\n--> 5 juillet, 20h30 : contes rouges !\n--> 26 juillet,
  20h30 : Moulins et meuniers\n--> 30 août, 15h30 : Guichen sur mer ! 
 ?...\n\nPour en savoir plus, rendez-vous sur http://www.breizhbook.com
 /events/et-le-conteur-chauve-sourit
DTSTART;TZID=Europe/Paris:20180628T203000
DTEND;TZID=Europe/Paris:20180628T223000
CATEGORIES:veillée, contée
LOCATION:Le Marin Boël
WEBSITE:http://www.contes-et-merveilles.com/agenda.php
URL:http://www.contes-et-merveilles.com/agenda.php
CONTACT:0299428939
ORGANIZER;CN=MATHIAS:http://www.breizhbook.com/profile/MATHIAS
ATTACH;FMTTYPE="image/jpeg":http://storage.ning.com/topology/rest/1.0/
 file/get/3198454359?profile=original
ATTENDEE;ROLE=REQ-PARTICIPANT;PARTSTAT=ACCEPTED;RSVP=TRUE;CN=MATHIAS:h
 ttp://www.breizhbook.com/profile/MATHIAS
END:VEVENT
END:VCALENDAR
