BEGIN:VCALENDAR
PRODID:NingEventWidget-v1
VERSION:2.0
METHOD:PUBLISH
BEGIN:VTIMEZONE
TZID:Europe/Paris
X-LIC-LOCATION:Europe/Paris
BEGIN:DAYLIGHT
TZOFFSETFROM:+0100
TZOFFSETTO:+0200
TZNAME:CEST
DTSTART:19700329T020000
RRULE:FREQ=YEARLY;BYMONTH=3;BYDAY=-1SU
END:DAYLIGHT
BEGIN:STANDARD
TZOFFSETFROM:+0200
TZOFFSETTO:+0100
TZNAME:CET
DTSTART:19701025T030000
RRULE:FREQ=YEARLY;BYMONTH=10;BYDAY=-1SU
END:STANDARD
END:VTIMEZONE
BEGIN:VEVENT
UID:6339722:Event:116074
DTSTAMP:20260423T161634Z
SUMMARY:Escales Ludiques en Bretagne
DESCRIPTION:Escales ludiques en Bretagne\ndu vendredi 18 mai au samedi
  26 mai 2012\n\n\nLe jeu vous invite au voyage, à l'évasion imaginai
 re. Laissez vous porter au fil du jeu en rencontrant des auteurs de je
 ux et en goûtant aux plaisirs ludiques.\n\nAvant goût ludique :\n\nC
 afé Ludique accompagné de jeux bretons\nRencontrez des auteurs bret
 ons : Patrick Cailleau et son jeu CinéQui (questions/réponses sur l
 e Cinéma) et Olivier Leduc et ses jeux abstraits.\nJouez en famille 
 autour de jeux et de lectures sur l'univers des contes et légendes br
 etonnes.\nSoirée jeux pour découvrir une sélection de jeux du cré
 ateur malouin, Roberto Fraga.\n\n\n\nVoir la programmation détaillée
 \n\nPour en savoir plus, rendez-vous sur http://www.breizhbook.com/eve
 nts/escales-ludiques-en-bretagne
DTSTART;TZID=Europe/Paris:20120518T113000
DTEND;TZID=Europe/Paris:20120526T010000
CATEGORIES:fête, de, la, bretagne, "/", gouel, breizh, 2012
LOCATION:Ti ar c'hoari Breizh
WEBSITE:http://tiarchoaribreizh.kazeo.com/
URL:http://tiarchoaribreizh.kazeo.com/
CONTACT:06.09.11.65.85
ORGANIZER;CN="Ti ar C'hoari Breizh":http://www.breizhbook.com/profile/
 TiarChoariBreizh
ATTACH;FMTTYPE="image/jpeg":http://storage.ning.com/topology/rest/1.0/
 file/get/3198313632?profile=original
ATTENDEE;ROLE=REQ-PARTICIPANT;PARTSTAT=ACCEPTED;RSVP=TRUE;CN="Ti ar C'
 hoari Breizh":http://www.breizhbook.com/profile/TiarChoariBreizh
END:VEVENT
END:VCALENDAR
