BEGIN:VCALENDAR
PRODID:NingEventWidget-v1
VERSION:2.0
METHOD:PUBLISH
BEGIN:VTIMEZONE
TZID:Europe/Paris
X-LIC-LOCATION:Europe/Paris
BEGIN:DAYLIGHT
TZOFFSETFROM:+0100
TZOFFSETTO:+0200
TZNAME:CEST
DTSTART:19700329T020000
RRULE:FREQ=YEARLY;BYMONTH=3;BYDAY=-1SU
END:DAYLIGHT
BEGIN:STANDARD
TZOFFSETFROM:+0200
TZOFFSETTO:+0100
TZNAME:CET
DTSTART:19701025T030000
RRULE:FREQ=YEARLY;BYMONTH=10;BYDAY=-1SU
END:STANDARD
END:VTIMEZONE
BEGIN:VEVENT
UID:6339722:Event:126281
DTSTAMP:20260423T164341Z
SUMMARY:Embarquez pour un dÃ©jeuner ou dÃ®ner croisiÃ¨re sur la vedett
 e AZENOR Ã  la dÃ©couverte des fÃªtes maritimes !  - DÃ©jeuner croisiÃ
 ¨re de 11h00 Ã  15h00 - DÃ®ner croisiÃ¨re de 19h30 Ã  minuit - Tarif T
 TC (hors b
DESCRIPTION:Azenor Brest\n\nPour en savoir plus, rendez-vous sur http:
 //www.breizhbook.com/events/embarquez-pour-un-d-jeuner-ou-d-ner-croisi
 -re-sur-la-vedette
DTSTART;TZID=Europe/Paris:20120713T100000
DTEND;TZID=Europe/Paris:20120719T230000
CATEGORIES:repas, croisiÃ¨re, tonnerre, de, brest, 2012
LOCATION:Port de co'
WEBSITE:http://www.azenor.fr/prix-des-croisieres-et-menus.php
URL:http://www.azenor.fr/prix-des-croisieres-et-menus.php
CONTACT:
ORGANIZER:Vedettes Azenor
ATTACH;FMTTYPE="image/jpeg":http://storage.ning.com/topology/rest/1.0/
 file/get/3198319804?profile=original
ATTENDEE;ROLE=REQ-PARTICIPANT;PARTSTAT=ACCEPTED;RSVP=TRUE;CN="Marc-arm
 and Calvez":http://www.breizhbook.com/profile/MarcarmandCalvez
END:VEVENT
END:VCALENDAR
