BEGIN:VCALENDAR
PRODID:NingEventWidget-v1
VERSION:2.0
METHOD:PUBLISH
BEGIN:VTIMEZONE
TZID:Europe/Paris
X-LIC-LOCATION:Europe/Paris
BEGIN:DAYLIGHT
TZOFFSETFROM:+0100
TZOFFSETTO:+0200
TZNAME:CEST
DTSTART:19700329T020000
RRULE:FREQ=YEARLY;BYMONTH=3;BYDAY=-1SU
END:DAYLIGHT
BEGIN:STANDARD
TZOFFSETFROM:+0200
TZOFFSETTO:+0100
TZNAME:CET
DTSTART:19701025T030000
RRULE:FREQ=YEARLY;BYMONTH=10;BYDAY=-1SU
END:STANDARD
END:VTIMEZONE
BEGIN:VEVENT
UID:6339722:Event:168959
DTSTAMP:20260423T175312Z
SUMMARY:Dorioù Digor : Portes Ouvertes des classes bilingues
DESCRIPTION:Les portes-ouvertes des classes bilingues de Bruz auront l
 ieu le samedi matin 13 avril 2013 de 9h30 à 12h00 à l'école Jacques
  Prévert.  Lors de cette matinée, les enseignants bilingues ainsi qu
 e l'association de parents d'élèves Div Yezh Bruz seront présents p
 our répondre à vos questions sur l'enseignement bilingue public bret
 on - français.  Venez nombreux à partager ce moment convivial !  Les
  classes bilingues offrent une pratique quotidienne des 2 langues, ave
 c un enseignant bilingue, qui suit les programmes officiels.  Toutes l
 es études réalisées par les linguistes démontrent que ce type d'en
 seignement favorise le développement global de l’enfant en cohéren
 ce avec son environnement culturel, social et affectif  - Je ne connai
 s pas le breton, est-ce un problème? Et la langue vivante étrangère
  ?... Retrouvez dès maintenant une partie des réponses à vos interr
 ogations sur le site de Div Yezh Bruz http://divyezh.bruz.free.fr  Pou
 r l'inscription en classe bilingue, il n'est pas nécessaire d'habiter
  le secteur de l'école. Les enfants de toutes les communes peuvent al
 ors être accueillis dans la filière bilingue.  Cette filière est un
 e réelle chance pour votre enfant ! Saisissez-là\n\nPour en savoir p
 lus, rendez-vous sur http://www.breizhbook.com/events/dorio-digor-port
 es-ouvertes-des-classes-bilingues
DTSTART;TZID=Europe/Paris:20130413T090000
DTEND;TZID=Europe/Paris:20130413T120000
CATEGORIES:portes-ouvertes
LOCATION:Ecole Jacques Prévert
WEBSITE:http://divyezh.bruz.free.fr
URL:http://divyezh.bruz.free.fr
CONTACT:0661732892
ORGANIZER;CN="Div Yezh Bruz":http://www.breizhbook.com/profile/DivYezh
 Bruz
ATTACH;FMTTYPE="image/jpeg":http://storage.ning.com/topology/rest/1.0/
 file/get/3198350466?profile=original
ATTENDEE;ROLE=REQ-PARTICIPANT;PARTSTAT=ACCEPTED;RSVP=TRUE;CN="Div Yezh
  Bruz":http://www.breizhbook.com/profile/DivYezhBruz
END:VEVENT
END:VCALENDAR
