BEGIN:VCALENDAR
PRODID:NingEventWidget-v1
VERSION:2.0
METHOD:PUBLISH
BEGIN:VTIMEZONE
TZID:Europe/Paris
X-LIC-LOCATION:Europe/Paris
BEGIN:DAYLIGHT
TZOFFSETFROM:+0100
TZOFFSETTO:+0200
TZNAME:CEST
DTSTART:19700329T020000
RRULE:FREQ=YEARLY;BYMONTH=3;BYDAY=-1SU
END:DAYLIGHT
BEGIN:STANDARD
TZOFFSETFROM:+0200
TZOFFSETTO:+0100
TZNAME:CET
DTSTART:19701025T030000
RRULE:FREQ=YEARLY;BYMONTH=10;BYDAY=-1SU
END:STANDARD
END:VTIMEZONE
BEGIN:VEVENT
UID:6339722:Event:119305
DTSTAMP:20260423T175210Z
SUMMARY:DJIBOUDJEP
DESCRIPTION:une animation vous est proposé par un spectacle de DJIBOU
 DJEP à l'espace Bar du village de la Volvo Race\n\nPour en savoir plu
 s, rendez-vous sur http://www.breizhbook.com/events/djiboudjep-4
DTSTART;TZID=Europe/Paris:20120624T190000
DTEND;TZID=Europe/Paris:20120624T220000
CATEGORIES:spectacle
LOCATION:Village de l' OCEAN VOLVO RACE
WEBSITE:http://nicolaslerallic@voila.fr
URL:http://nicolaslerallic@voila.fr
CONTACT:
ORGANIZER:www.bvcorganisation.com
ATTACH;FMTTYPE="image/jpeg":http://storage.ning.com/topology/rest/1.0/
 file/get/3198316865?profile=original
ATTENDEE;ROLE=REQ-PARTICIPANT;PARTSTAT=ACCEPTED;RSVP=TRUE;CN="Nicolas 
 LE RALLIC":http://www.breizhbook.com/profile/LERALLIC
END:VEVENT
END:VCALENDAR
