BEGIN:VCALENDAR
PRODID:NingEventWidget-v1
VERSION:2.0
METHOD:PUBLISH
BEGIN:VTIMEZONE
TZID:Europe/Paris
X-LIC-LOCATION:Europe/Paris
BEGIN:DAYLIGHT
TZOFFSETFROM:+0100
TZOFFSETTO:+0200
TZNAME:CEST
DTSTART:19700329T020000
RRULE:FREQ=YEARLY;BYMONTH=3;BYDAY=-1SU
END:DAYLIGHT
BEGIN:STANDARD
TZOFFSETFROM:+0200
TZOFFSETTO:+0100
TZNAME:CET
DTSTART:19701025T030000
RRULE:FREQ=YEARLY;BYMONTH=10;BYDAY=-1SU
END:STANDARD
END:VTIMEZONE
BEGIN:VEVENT
UID:6339722:Event:170637
DTSTAMP:20260423T181835Z
SUMMARY:Dimanche 14 Avril 2013 : CONVENTION FITNESS
DESCRIPTION:Pour cette convention au Village Oxylane de Betton-Rennes,
  nous accueillerons pour la première fois chez Génération-Fitness, 
 Alexandre Mallier. Armand Rogier et Jean-Christophe Madiot animeront 
 galement la journée.\nAlexandre Mallier :\nInternational Fitness Pre
 senter (Japon, Allemagne, Pologne, Angleterre, Corée, Chine, Ukraine,
  Croatie, Italie, Espagne, Hollande, Danemark, Maroc, Tunisie, Guadelo
 upe, Martinique, Suisse, Belgique, Turquie, etc…). Il est également
  fondateur, co-gérant et formateur de Move Your Fit. Il est auteur de
  nombreux DVD de fitness. Il a participé à l’émission “La Franc
 e a un incroyable talent” sur M6 en 2012. Alexandre a été élu mei
 lleur espoir fitness français en 2006 et il a été champion de Franc
 e de step par équipe en 2006 et champion de France de step individuel
  professionnel en 2007.\nwww.alexandremallier.com\nArmand Rogier :\nPr
 esenter en fitness et en danses urbaines. Diplômé B.E.M.F. et DEUG S
 TAPS. Elu “New comer” France 2008 à l’euroconvention de Guiller
 mo Gonzales Vega. 3ème au Championnat de France de Hilo individuel en
  2008. Champion du Monde du Trophy Hip-Hop individuel en 2007. 4ème a
 u Championnat de Hilow individuel en 2007. Champion de France de Hip-H
 op en 2004 et 2005.\nhttp://armand-rogier.e-monsite.com/\nJean-Christo
 phe Madiot :\ndiplômé B.E.E.S.A.N. / B.E.M.F. au C.R.E.P.S. de Dinar
 d. Actuellement, co-gérant de Génération-Fitness et intervenant for
 mateur au Campus de l’Excellence Sportive de Bretagne à Dinard.\nPR
 OGRAMME du Dimanche 14 Avril 2013 :\n10h00 : STEP : Armand Rogier\n11h
 15 : HILO : Alexandre Mallier\n13h30 : STEP : Jean-Christophe Madiot\n
 14h45 : HILO : Armand Rogier :\n16h00 : STEP : Alexandre Mallier\nTARI
 FS :\n- Règlement envoyé avant le 06 Avril 2013 : journée = 30 € 
 1 cours = 10 €\n- Règlement envoyé après le 06 Avril 2013 : journ
 ée = 40 € 1 cours = 15 €\n- Tarif pour les groupes de 10 personne
 s ou plus ( journée gratuite pour l’éducateur sportif accompagnant
 ). Attention, ce tarif concerne plusieurs personnes d’un même club,
  d’une même école ou d’une même association. La journée = 25 
  / personne (merci d’envoyer vos inscriptions groupées une semain
 e avant la date de la convention. Merci de bien vouloir indiquer les n
 oms, prénoms, portables et mails de chaque participant)\nRESTAURATION
  SUR PLACE AVEC LE SNACK EKINATCAFE\n \nVidéo de Bande-Annonce : ht
 tp://www.youtube.com/watch?v=3wbvaC72mOs\n\nPour en savoir plus, rende
 z-vous sur http://www.breizhbook.com/events/dimanche-14-avril-2013-con
 vention-fitness
DTSTART;TZID=Europe/Paris:20130414T000000
DTEND;TZID=Europe/Paris:20130414T235900
CATEGORIES:convention, fitness
LOCATION:DECATHLON - VILLAGE OXYLANE
WEBSITE:http://www.generation-fitness.com
URL:http://www.generation-fitness.com
CONTACT:0609470656
ORGANIZER;CN=Génération-Fitness:http://www.breizhbook.com/profile/Ge
 nerationFitness
ATTACH;FMTTYPE="image/jpeg":http://storage.ning.com/topology/rest/1.0/
 file/get/3121683382?profile=original
ATTENDEE;ROLE=REQ-PARTICIPANT;PARTSTAT=ACCEPTED;RSVP=TRUE;CN=Générat
 ion-Fitness:http://www.breizhbook.com/profile/GenerationFitness
END:VEVENT
END:VCALENDAR
