BEGIN:VCALENDAR
PRODID:NingEventWidget-v1
VERSION:2.0
METHOD:PUBLISH
BEGIN:VTIMEZONE
TZID:Europe/Paris
X-LIC-LOCATION:Europe/Paris
BEGIN:DAYLIGHT
TZOFFSETFROM:+0100
TZOFFSETTO:+0200
TZNAME:CEST
DTSTART:19700329T020000
RRULE:FREQ=YEARLY;BYMONTH=3;BYDAY=-1SU
END:DAYLIGHT
BEGIN:STANDARD
TZOFFSETFROM:+0200
TZOFFSETTO:+0100
TZNAME:CET
DTSTART:19701025T030000
RRULE:FREQ=YEARLY;BYMONTH=10;BYDAY=-1SU
END:STANDARD
END:VTIMEZONE
BEGIN:VEVENT
UID:6339722:Event:116825
DTSTAMP:20260423T163144Z
SUMMARY:DICTEE DE Lâ€™EUROPE le 2 mai Ã  Brest
DESCRIPTION:Pour la 11e Ã©dition, la Maison de lâ€™Europe de Brest, en
  partenariat avec lâ€™association Â« Les FÃªlÃ©s de lâ€™orthographe Â»
 , donne rendez-vous aux personnes qui souhaitent tester leurs connaiss
 ances en orthographe lors de la DictÃ©e de lâ€™Europe. Le thÃ¨me cette
  annÃ©e portera sur lâ€™AnnÃ©e europÃ©enne 2012 du vieillissement acti
 f et de la solidaritÃ© intergÃ©nÃ©rationnelle.\n\nIl y aura deux catÃ©
 goriesÂ : adultes amateurs et adultes confirmÃ©s. Les trois meilleures
  copies de chaque catÃ©gorie recevront un beau prix lors dâ€™une cÃ©rÃ
 ©monie Ã  la Mairie de Brest.\n\nLa dictÃ©e aura lieu le mercredi 2 ma
 i Ã  14h dans lâ€™amphi sud du bÃ¢timent AES de la facultÃ© de Droit d
 e Brest (rue de Kergoat).\n\nSi vous souhaitez participer Ã  cet Ã©vÃ©
 nement convivial, inscrivez-vous auprÃ¨s de la Maison de lâ€™Europe (i
 nscription gratuite).\n\n16, rue de l'Harteloire - 29200 BREST\nTÃ©lÂ 
 : 02 98 46 60 09\nCourrielÂ : accueil@maisoneurope-brest.eu\n\nPour en
  savoir plus, rendez-vous sur http://www.breizhbook.com/events/dictee-
 de-l-europe-le-2-mai-brest
DTSTART;TZID=Europe/Paris:20120502T140000
DTEND;TZID=Europe/Paris:20120502T160000
CATEGORIES:concours
LOCATION:amphi sud du bÃ¢timent AES de la facultÃ© de Droit de Brest
WEBSITE:
URL:
CONTACT:0298466009
ORGANIZER;CN="Maison De l'Europe Brest":http://www.breizhbook.com/prof
 ile/MaisonDelEuropeBrest
ATTACH;FMTTYPE="image/jpeg":http://storage.ning.com/topology/rest/1.0/
 file/get/3198314469?profile=original
ATTENDEE;ROLE=REQ-PARTICIPANT;PARTSTAT=ACCEPTED;RSVP=TRUE;CN="Maison D
 e l'Europe Brest":http://www.breizhbook.com/profile/MaisonDelEuropeBre
 st
END:VEVENT
END:VCALENDAR
