BEGIN:VCALENDAR
PRODID:NingEventWidget-v1
VERSION:2.0
METHOD:PUBLISH
BEGIN:VTIMEZONE
TZID:Europe/Paris
X-LIC-LOCATION:Europe/Paris
BEGIN:DAYLIGHT
TZOFFSETFROM:+0100
TZOFFSETTO:+0200
TZNAME:CEST
DTSTART:19700329T020000
RRULE:FREQ=YEARLY;BYMONTH=3;BYDAY=-1SU
END:DAYLIGHT
BEGIN:STANDARD
TZOFFSETFROM:+0200
TZOFFSETTO:+0100
TZNAME:CET
DTSTART:19701025T030000
RRULE:FREQ=YEARLY;BYMONTH=10;BYDAY=-1SU
END:STANDARD
END:VTIMEZONE
BEGIN:VEVENT
UID:6339722:Event:173939
DTSTAMP:20260423T181157Z
SUMMARY:\"De Breizh et d'Ã” !\" : FÃªte de la Bretagne le 18 mai au Gr
 and-Fougeray
DESCRIPTION:Le 18 mai 2013â€¨\nde 10h Ã  20h au moinsâ€¨\nSur le site 
 unique du Moulin de ChÃ¨re Ã  Grand-Fougeray dans un parc arborÃ© en b
 ord de riviÃ¨re... â€¨â€¨\nVenez fÃªter la FÃªte de la Bretagne : \"De
  Breizh et d'Ã” !\" avec les 20 participants et les bÃ©nÃ©voles qui sa
 uront vous accueillir, vous montrer et vous faire profiter de leur ima
 ge positive, dynamique, verte et respectueuse de leur Bretagne et de s
 a nature !â€¨â€¨\nTous les dÃ©partements bretons seront prÃ©sents car 
 nous nous agrandissons sans jamais vous exposer deux savoir-faire ou d
 eux arts identiques et sans jamais sortir de notre esprit de dÃ©part.â
 €¨â€¨\nLa Bretagne est riche de ses idÃ©es, la Bretagne est fiÃ¨re de 
 son identitÃ© et de sa mixitÃ©, la Bretagne est dynamique et va toujou
 rs de l'avant mÃªme dans ses villages, la Bretagne est tournÃ©e vers l
 'extÃ©rieur tout en faisant un pont avec ses racines et sa culture.\n 
 ActivitÃ©s ludiques pour les enfants (jeux divers), musique bretonne, 
 histoires contÃ©es et promenade en calÃ¨che avec des chevaux postiers,
  d'autres animaux de race sont en plus au programme. Sans parler de la
  dÃ©dicace du dernier album bd des aventures de Toupoil par Serge Monf
 ort et de l'association Chubri qui soutient le gallo breton !  Restaur
 ation sur place avec galettes-saucisses, frites, crÃªpes sucrÃ©es, tou
 rtets aux pommes, buvette et la dÃ©couverte des produits de nombre des
  participants ! Tout ceci en flÃ¢nant au bord de l'eau et en pouvant s
 'Ã©tendre dans l'herbe fraÃ®che Ã  l'ombre des grands arbres.  Pour no
 us trouver : http://www.lemoulindechere.com/itineraire.html #Grand_Fou
 geray sur twitter ou http://www.facebook.com/events/362702767179452/  
 Les participants : Eric Breger le producteur de plants et aromates, Pa
 trick Capron lâ€™informaticien, Chubri de Rennes, Fabrice et Eric les 
 musiciens bretons, Faby lâ€™artiste-peintre, HÃ©lÃ¨ne lâ€™Ã©leveuse bi
 o, AndrÃ© Houguet le boulanger, Pierre Jourdan et son cafÃ©, Kiki la p
 este lâ€™artiste-illustratrice, Dominique Latouche le maraÃ®cher bio, 
 Jennie Malandain la graphiste-crÃ©atif, J.F Mercier et ses chambres dâ
 €™hÃ´tes, AndrÃ© Migot et ses chevaux postiers, Serge Monfort et sa sÃ
 ©rie Â«Â ToupoilÂ Â», Patrick Prunault le meunier, Nathalie Soulas ave
 c son Safran, GÃ®tes de France 35â€¦ et toujours plusÂ !  Lieux : Le M
 oulin de ChÃ¨re â€“ ChÃ¨re â€“ 35390 Grand-Fougeray gps: 47Â° 42' 28.7
 '' N / 1Â° 45' 06.3'' O\nhttp://www.lemoulindechere.com/plandacces.htm
 l   Contact : Jennie Malandain Mail. crea@jm-design.eu ChargÃ©e de la 
 com' et du projet \"De Breizh et d'Ã” !\" Ã  Grand-Fougeray (35)  02 9
 9 90 85 30 www.lemoulindechere.com\n\n\nPour en savoir plus, rendez-vo
 us sur http://www.breizhbook.com/events/de-breizh-et-d-f-te-de-la-bret
 agne-le-18-mai-au-grand-fougeray
DTSTART;TZID=Europe/Paris:20130518T000000
DTEND;TZID=Europe/Paris:20130518T235900
CATEGORIES:fÃªte, de, la, bretagne, festivitÃ©s, familiale
LOCATION:Le Moulin de ChÃ¨re
WEBSITE:http://www.lemoulindechere.com/FETEdelaBRETAGNE_DeBreizhetdO.h
 tml
URL:http://www.lemoulindechere.com/FETEdelaBRETAGNE_DeBreizhetdO.html
CONTACT:0299908530
ORGANIZER;CN="Jeffy - Le Moulin de ChÃ¨re":http://www.breizhbook.com/p
 rofile/JeffyLeMoulindeChere
ATTACH;FMTTYPE="image/jpeg":http://storage.ning.com/topology/rest/1.0/
 file/get/3198353479?profile=original
ATTENDEE;ROLE=REQ-PARTICIPANT;PARTSTAT=ACCEPTED;RSVP=TRUE;CN="Jeffy - 
 Le Moulin de ChÃ¨re":http://www.breizhbook.com/profile/JeffyLeMoulinde
 Chere
END:VEVENT
END:VCALENDAR
