BEGIN:VCALENDAR
PRODID:NingEventWidget-v1
VERSION:2.0
METHOD:PUBLISH
BEGIN:VTIMEZONE
TZID:Europe/Paris
X-LIC-LOCATION:Europe/Paris
BEGIN:DAYLIGHT
TZOFFSETFROM:+0100
TZOFFSETTO:+0200
TZNAME:CEST
DTSTART:19700329T020000
RRULE:FREQ=YEARLY;BYMONTH=3;BYDAY=-1SU
END:DAYLIGHT
BEGIN:STANDARD
TZOFFSETFROM:+0200
TZOFFSETTO:+0100
TZNAME:CET
DTSTART:19701025T030000
RRULE:FREQ=YEARLY;BYMONTH=10;BYDAY=-1SU
END:STANDARD
END:VTIMEZONE
BEGIN:VEVENT
UID:6339722:Event:127907
DTSTAMP:20260423T175207Z
SUMMARY:de Baie à Baie
DESCRIPTION:Randonnée guidée entre la baie de Tressény  (Guissény
  ) et la baie de Goulven.\n3 départs au choix:\n\n25 km (9h, maison c
 ommunale à Guissény)\n14 km (13h30, village de Meneham à Kerlouan)\
 n7 km (15h, Kervillo à Plounéour-Trez)\n\n Ravitaillement - Goûter 
 breton à l'arrivée Retour prévu en car. Adultes: 6 € - Enfants mo
 ins de 16 ans: gratuit.\nInscriptions au 02.98.25.67.99 ou sur place.\
 n25 km (9h, maison communale à Guissény) ; 14 km (13h30, village de 
 Meneham à Kerlouan) ; 7 km (15h, Kervillo à Plounéour Trez)\n\nPour
  en savoir plus, rendez-vous sur http://www.breizhbook.com/events/de-b
 aie-baie
DTSTART;TZID=Europe/Paris:20120816T090000
DTEND;TZID=Europe/Paris:20120816T173000
CATEGORIES:randonnée, pédestre
LOCATION:Côte des Légendes
WEBSITE:http://goulven-decouverte.fr
URL:http://goulven-decouverte.fr
CONTACT:
ORGANIZER:Association Goulven-Découverte
ATTACH;FMTTYPE="image/jpeg":http://storage.ning.com/topology/rest/1.0/
 file/get/3198321231?profile=original
ATTENDEE;ROLE=REQ-PARTICIPANT;PARTSTAT=ACCEPTED;RSVP=TRUE;CN="Alain Bo
 uquet":http://www.breizhbook.com/profile/AlainBouquet
END:VEVENT
END:VCALENDAR
