BEGIN:VCALENDAR
PRODID:NingEventWidget-v1
VERSION:2.0
METHOD:PUBLISH
BEGIN:VTIMEZONE
TZID:Europe/Paris
X-LIC-LOCATION:Europe/Paris
BEGIN:DAYLIGHT
TZOFFSETFROM:+0100
TZOFFSETTO:+0200
TZNAME:CEST
DTSTART:19700329T020000
RRULE:FREQ=YEARLY;BYMONTH=3;BYDAY=-1SU
END:DAYLIGHT
BEGIN:STANDARD
TZOFFSETFROM:+0200
TZOFFSETTO:+0100
TZNAME:CET
DTSTART:19701025T030000
RRULE:FREQ=YEARLY;BYMONTH=10;BYDAY=-1SU
END:STANDARD
END:VTIMEZONE
BEGIN:VEVENT
UID:6339722:Event:115413
DTSTAMP:20260423T183439Z
SUMMARY:Daonet Donemat tour - Bro Gwened - à Theix(56) avec Taran, ba
 gad de Theix
DESCRIPTION:Concert de rock breton et musique celtique avec Daonet pou
 r la sortie de son nouvel album \"Donemat\" (Dist. Coop Breizh), avec 
 le groupe Taran et le bagad de Theix  Donemat, bienvenue dans l'univer
 s des maudits de Daonet, où se mêlent l'énergie rock et la culture 
 bretonne. Daonet, qui n'a plus sa réputation à faire sur scène, pro
 pose par ses solides rythmiques basse-batterie, sa guitare électrique
  incisive et ses voix inspirées, des mélodies diablement efficaces. 
 Une déferlante d'énergie communicative portant une émotion bretonne
  authentique. Alliant fougue et sensualité, le trio nantais incarne l
 a vitalité du rock chanté en breton, personnifiant l'image d'une Bre
 tagne libre, consciente et tournée vers l'avenir.  Entrée 5 Euros, g
 ratuit pour les moins de 10 ans - organisation association Taran\n\nDa
 onet sera également en mini-concert acoustique dans la librairie Lenn
  ha dilenn à Vannes (8 rue des Chanoines) le 28 avril à 15H\n\nPour 
 en savoir plus, rendez-vous sur http://www.breizhbook.com/events/daone
 t-donemat-tour-bro-gwened-theix-56-avec-taran-bagad-de-theix
DTSTART;TZID=Europe/Paris:20120428T203000
DTEND;TZID=Europe/Paris:20120429T010000
CATEGORIES:concert
LOCATION:Salle Pierre DOSSE
WEBSITE:http://www.daonet.eu/
URL:http://www.daonet.eu/
CONTACT:
ORGANIZER:Association Taran
ATTACH;FMTTYPE="image/jpeg":http://storage.ning.com/topology/rest/1.0/
 file/get/3198313097?profile=original
ATTENDEE;ROLE=REQ-PARTICIPANT;PARTSTAT=ACCEPTED;RSVP=TRUE;CN="Gilles H
 . - Bogzh - Daonet":http://www.breizhbook.com/profile/GillesH
END:VEVENT
END:VCALENDAR
