BEGIN:VCALENDAR
PRODID:NingEventWidget-v1
VERSION:2.0
METHOD:PUBLISH
BEGIN:VTIMEZONE
TZID:Europe/Paris
X-LIC-LOCATION:Europe/Paris
BEGIN:DAYLIGHT
TZOFFSETFROM:+0100
TZOFFSETTO:+0200
TZNAME:CEST
DTSTART:19700329T020000
RRULE:FREQ=YEARLY;BYMONTH=3;BYDAY=-1SU
END:DAYLIGHT
BEGIN:STANDARD
TZOFFSETFROM:+0200
TZOFFSETTO:+0100
TZNAME:CET
DTSTART:19701025T030000
RRULE:FREQ=YEARLY;BYMONTH=10;BYDAY=-1SU
END:STANDARD
END:VTIMEZONE
BEGIN:VEVENT
UID:6339722:Event:121645
DTSTAMP:20260423T182328Z
SUMMARY:DÃ©dicaces de Â« La GallÃ©sie en FÃªteS : Monterfil Â» Ã  la L
 ibrairie rennaise Lâ€™Encre de Bretagne
DESCRIPTION:Samedi 9 juin, Ã  partir de 17h, la librairie L'Encre de B
 retagne accueille une sÃ©ance de dÃ©dicaces du livre \"La GallÃ©sie en
  FÃªteS : Monterfil\", rÃ©alisÃ© Ã  lâ€™initiative de lâ€™association 
 Â« Au Carrefour de la GallÃ©sie Â». Il s'agit d'un superbe ouvrage qui
  contient une sÃ©lection de photos de Gilbert Le Gall, photographe ama
 teur qui a couvert cette manifestation pendant plus de 20 ans, ponctuÃ
 ©e de quelques textes poÃ©tiques de Dominique FerrÃ© : c'est avant tou
 t un hommage au travail exceptionnel du photographe qui a captÃ© et re
 stituÃ© toute lâ€™Ã©paisseur humaine de ce festival Ã  nul autre parei
 l. Mais câ€™est aussi la rÃ©sultante du regard portÃ© par lâ€™associat
 ion sur cet Ã©vÃ©nement dont elle a faÃ§onnÃ© au fil de son histoire l
 â€™image si singuliÃ¨re. Parcourir avec les yeux ces 129 photos en noi
 r et blanc est un voyage initiatique pour qui ne connaÃ®t pas (encore)
  cette fÃªte. Pour les autres, acteurs directs ou indirects,Â  respons
 ables, bÃ©nÃ©voles, intervenants ou gens du public, chaque image est u
 ne dÃ©couverte de lâ€™envers du miroir : la rÃ©alitÃ© vÃ©cue, dans sa 
 totalitÃ© ou par bribes, y apparaÃ®t transcendÃ©e par lâ€™Å“il du phot
 ographe. Une oeuvre qui donne du sens au mot Â« culture populaire Â».\
 n\nPour en savoir plus, rendez-vous sur http://www.breizhbook.com/even
 ts/d-dicaces-de-la-gall-sie-en-f-tes-monterfil-la-librairie-rennaise
DTSTART;TZID=Europe/Paris:20120609T190000
DTEND;TZID=Europe/Paris:20120609T213000
CATEGORIES:dÃ©dicace, "d'ouvrage"
LOCATION:Librairie L'Encre de Bretagne
WEBSITE:http://www.encredebretagne.com
URL:http://www.encredebretagne.com
CONTACT:02 99 63 98 35
ORGANIZER;CN=FERRE:http://www.breizhbook.com/profile/FERRE
ATTACH;FMTTYPE="image/jpeg":http://storage.ning.com/topology/rest/1.0/
 file/get/3198318636?profile=original
ATTENDEE;ROLE=REQ-PARTICIPANT;PARTSTAT=ACCEPTED;RSVP=TRUE;CN=FERRE:htt
 p://www.breizhbook.com/profile/FERRE
END:VEVENT
END:VCALENDAR
