BEGIN:VCALENDAR
PRODID:NingEventWidget-v1
VERSION:2.0
METHOD:PUBLISH
BEGIN:VTIMEZONE
TZID:Europe/Paris
X-LIC-LOCATION:Europe/Paris
BEGIN:DAYLIGHT
TZOFFSETFROM:+0100
TZOFFSETTO:+0200
TZNAME:CEST
DTSTART:19700329T020000
RRULE:FREQ=YEARLY;BYMONTH=3;BYDAY=-1SU
END:DAYLIGHT
BEGIN:STANDARD
TZOFFSETFROM:+0200
TZOFFSETTO:+0100
TZNAME:CET
DTSTART:19701025T030000
RRULE:FREQ=YEARLY;BYMONTH=10;BYDAY=-1SU
END:STANDARD
END:VTIMEZONE
BEGIN:VEVENT
UID:6339722:Event:132641
DTSTAMP:20260423T163355Z
SUMMARY:dédicace : Contes et légendes d'Ille-et-Vilaine
DESCRIPTION:En accompagnement de la toute récente publication des \"C
 ontes et légendes d'Ille-et-Vilaine\", synthèse à ma façon de notr
 e imaginaire collectif en \"Extrême-Orient breton\", j'aurai plaisir,
  lors de ce grand rendez-vous convivial de qualité qu'est le salon Il
 le et Bio, à dédicacer vos exemplaires de cet ouvrage de référence
 , intéressant à titre personnel, et aussi pour partager avec vos pro
 ches, vos hôtes...http://www.larosemystique.fr/\n\nPour en savoir plu
 s, rendez-vous sur http://www.breizhbook.com/events/d-dicace-contes-et
 -l-gendes-d-ille-et-vilaine-3
DTSTART;TZID=Europe/Paris:20121013T113000
DTEND;TZID=Europe/Paris:20121013T150000
CATEGORIES:conte, et, rencontre-dédicace, dédicace
LOCATION:salon Ille et Bio, stand de la Librairie La Rose Mystique
WEBSITE:http://www.contes-et-merveilles.com/agenda.php
URL:http://www.contes-et-merveilles.com/agenda.php
CONTACT:
ORGANIZER;CN=MATHIAS:http://www.breizhbook.com/profile/MATHIAS
ATTACH;FMTTYPE="image/jpeg":http://storage.ning.com/topology/rest/1.0/
 file/get/3198325418?profile=original
ATTENDEE;ROLE=REQ-PARTICIPANT;PARTSTAT=ACCEPTED;RSVP=TRUE;CN=MATHIAS:h
 ttp://www.breizhbook.com/profile/MATHIAS
END:VEVENT
END:VCALENDAR
