BEGIN:VCALENDAR
PRODID:NingEventWidget-v1
VERSION:2.0
METHOD:PUBLISH
BEGIN:VTIMEZONE
TZID:Europe/Paris
X-LIC-LOCATION:Europe/Paris
BEGIN:DAYLIGHT
TZOFFSETFROM:+0100
TZOFFSETTO:+0200
TZNAME:CEST
DTSTART:19700329T020000
RRULE:FREQ=YEARLY;BYMONTH=3;BYDAY=-1SU
END:DAYLIGHT
BEGIN:STANDARD
TZOFFSETFROM:+0200
TZOFFSETTO:+0100
TZNAME:CET
DTSTART:19701025T030000
RRULE:FREQ=YEARLY;BYMONTH=10;BYDAY=-1SU
END:STANDARD
END:VTIMEZONE
BEGIN:VEVENT
UID:6339722:Event:148169
DTSTAMP:20260423T175945Z
SUMMARY:Découvrez mes contes pour enfants sur la Bretagne
DESCRIPTION:Je vous invite à découvrir mes contes pour enfants ayant
  pour thème la Bretagne : http://editionsdupreau.votreboutiquepro.ne
 t/contes-5-8-ans-/index.php/cPath/23?osCsid=m8pqufsacicau0o2g4cmq7tbf2
 \n\n\nPour en savoir plus, rendez-vous sur http://www.breizhbook.com/e
 vents/d-couvrez-mes-contes-pour-enfants-sur-la-bretagne
DTSTART;TZID=Europe/Paris:20130121T150000
DTEND;TZID=Europe/Paris:20130131T190000
CATEGORIES:littérature
LOCATION:Sur la toile
WEBSITE:http://editionsdupreau.votreboutiquepro.net/contes-5-8-ans-/in
 dex.php/cPath/23?osCsid=m8pqufsacicau0o2g4cmq7tbf2
URL:http://editionsdupreau.votreboutiquepro.net/contes-5-8-ans-/index.
 php/cPath/23?osCsid=m8pqufsacicau0o2g4cmq7tbf2
CONTACT:
ORGANIZER;CN="Paskal Carlier":http://www.breizhbook.com/profile/Paskal
 Carlier
ATTACH;FMTTYPE="image/jpeg":http://storage.ning.com/topology/rest/1.0/
 file/get/3198332771?profile=original
ATTENDEE;ROLE=REQ-PARTICIPANT;PARTSTAT=ACCEPTED;RSVP=TRUE;CN="Paskal C
 arlier":http://www.breizhbook.com/profile/PaskalCarlier
END:VEVENT
END:VCALENDAR
