BEGIN:VCALENDAR
PRODID:NingEventWidget-v1
VERSION:2.0
METHOD:PUBLISH
BEGIN:VTIMEZONE
TZID:Europe/Paris
X-LIC-LOCATION:Europe/Paris
BEGIN:DAYLIGHT
TZOFFSETFROM:+0100
TZOFFSETTO:+0200
TZNAME:CEST
DTSTART:19700329T020000
RRULE:FREQ=YEARLY;BYMONTH=3;BYDAY=-1SU
END:DAYLIGHT
BEGIN:STANDARD
TZOFFSETFROM:+0200
TZOFFSETTO:+0100
TZNAME:CET
DTSTART:19701025T030000
RRULE:FREQ=YEARLY;BYMONTH=10;BYDAY=-1SU
END:STANDARD
END:VTIMEZONE
BEGIN:VEVENT
UID:6339722:Event:112794
DTSTAMP:20260423T175301Z
SUMMARY:Cristine MERIENNE
DESCRIPTION:STAGE VOIX ET ECRITURE Douarnenez du 18 au 22 juillet 2
 012 Cristine Mérienne, chanteuse et harpiste, auteur compositrice 
 (prix Sacem, maîtrise de Lettres modernes, prix d'excellence en harp
 e celtique, lauréate de concours internationaux…) Vous propose un 
 atelier de voix, voix parlée, voix chantée, voix rythmée, accompag
 né d'un travail sur les mots : rythmer la langue, rythmer les mots, 
 rythmer les phrases, jouer sur les sons, sur le sens, les sens, l'ess
 ence des mots. Parce que travailler sa voix c'est chercher sa voie, p
 arce qu'écrire c'est se dire, et que chanter est s'enchanter! Vous 
 êtes les bienvenus si vous disposez d'une voix, d'un crayon et d'env
 ie de partager… www.cristine.fr Tarifs : cours 400€ / Repas 5jou
 rs  50€ /Hébergement : 100€ (places limitées) – Renseigneme
 nts : cristine.harpe@free.fr \n\nPour en savoir plus, rendez-vous su
 r http://www.breizhbook.com/events/cristine-merienne
DTSTART;TZID=Europe/Paris:20120718T000000
DTEND;TZID=Europe/Paris:20120722T235900
CATEGORIES:stage, voix, et, écriture
LOCATION:l'Oiseau-Lune - Cristine Merienne
WEBSITE:http://www.cristine.fr
URL:http://www.cristine.fr
CONTACT:06 17 36 20 52  : Patricia Le Bail (assistante en communicatio
 n)
ORGANIZER:Cristine MERIENNE
ATTACH;FMTTYPE="image/jpeg":http://storage.ning.com/topology/rest/1.0/
 file/get/3097076343?profile=original
ATTENDEE;ROLE=REQ-PARTICIPANT;PARTSTAT=ACCEPTED;RSVP=TRUE;CN="Le Bail 
 Patricia":http://www.breizhbook.com/profile/LeBailPatricia
END:VEVENT
END:VCALENDAR
