BEGIN:VCALENDAR
PRODID:NingEventWidget-v1
VERSION:2.0
METHOD:PUBLISH
BEGIN:VTIMEZONE
TZID:Europe/Paris
X-LIC-LOCATION:Europe/Paris
BEGIN:DAYLIGHT
TZOFFSETFROM:+0100
TZOFFSETTO:+0200
TZNAME:CEST
DTSTART:19700329T020000
RRULE:FREQ=YEARLY;BYMONTH=3;BYDAY=-1SU
END:DAYLIGHT
BEGIN:STANDARD
TZOFFSETFROM:+0200
TZOFFSETTO:+0100
TZNAME:CET
DTSTART:19701025T030000
RRULE:FREQ=YEARLY;BYMONTH=10;BYDAY=-1SU
END:STANDARD
END:VTIMEZONE
BEGIN:VEVENT
UID:6339722:Event:108509
DTSTAMP:20260423T181324Z
SUMMARY:course cycliste UFOLEP
DESCRIPTION:course cycliste UFOLEP  1ere et 2 eme categorie en decale
  avec la categorie GS depart 13h30. 3 em categorie depart à 15h45\n\n
 Pour en savoir plus, rendez-vous sur http://www.breizhbook.com/events/
 course-cycliste-ufolep
DTSTART;TZID=Europe/Paris:20120701T133000
DTEND;TZID=Europe/Paris:20120701T180000
CATEGORIES:cyclosport
LOCATION:place de l'eglise
WEBSITE:http://http//:clubcyclisteducoglais.sportblog.fr
URL:http://http//:clubcyclisteducoglais.sportblog.fr
CONTACT:0643169295
ORGANIZER;CN="alain mellet":http://www.breizhbook.com/profile/alainmel
 let
ATTACH;FMTTYPE="image/jpeg":
ATTENDEE;ROLE=REQ-PARTICIPANT;PARTSTAT=ACCEPTED;RSVP=TRUE;CN="alain me
 llet":http://www.breizhbook.com/profile/alainmellet
END:VEVENT
END:VCALENDAR
