BEGIN:VCALENDAR
PRODID:NingEventWidget-v1
VERSION:2.0
METHOD:PUBLISH
BEGIN:VTIMEZONE
TZID:Europe/Paris
X-LIC-LOCATION:Europe/Paris
BEGIN:DAYLIGHT
TZOFFSETFROM:+0100
TZOFFSETTO:+0200
TZNAME:CEST
DTSTART:19700329T020000
RRULE:FREQ=YEARLY;BYMONTH=3;BYDAY=-1SU
END:DAYLIGHT
BEGIN:STANDARD
TZOFFSETFROM:+0200
TZOFFSETTO:+0100
TZNAME:CET
DTSTART:19701025T030000
RRULE:FREQ=YEARLY;BYMONTH=10;BYDAY=-1SU
END:STANDARD
END:VTIMEZONE
BEGIN:VEVENT
UID:6339722:Event:148350
DTSTAMP:20260423T163927Z
SUMMARY:Cours, Stage, Formation de Sculpture 2013 à Vannes (56)
DESCRIPTION:Cours, Stage, Formation de Sculpture 2013 à Vannes (56)\n
 Pâques du 22 au 26 avril ou du 29 avril au 3 mai   \nEt en juillet
 , août ou septembre 2013\n \nPar module d'une semaine:  du lundi au
  vendredi\nPour adultes et adolescents,\n \nCours hebdomadaires, et F
 ormation Continue toute l'année\n \nStages axés plus particulièrem
 ent sur la créativité personnelle.\nEpanouissement par le plaisir de
  créer plutôt que de copier, de reproduire.\n \nMatériaux en optio
 n : bois, pierre, terre, béton cellulaire, plâtre, grillage ...\n \
 nRenseignements:   Tel : 02.97.46.05.48   Site: http://www.strill.
 fr\n \n\nPour en savoir plus, rendez-vous sur http://www.breizhbook.c
 om/events/cours-stage-formation-de-sculpture-2013-vannes-56
DTSTART;TZID=Europe/Paris:20130120T210000
DTEND;TZID=Europe/Paris:20130930T210000
CATEGORIES:cours, stage, formation, de, sculpture, 2013, à, vannes, "
 (56)"
LOCATION:Vannes , Bretagne, France
WEBSITE:
URL:
CONTACT:
ORGANIZER;CN="Joël STRILL Sculpteur":http://www.breizhbook.com/profil
 e/JoelSTRILLSculpteur
ATTACH;FMTTYPE="image/jpeg":http://storage.ning.com/topology/rest/1.0/
 file/get/3198330772?profile=original
ATTENDEE;ROLE=REQ-PARTICIPANT;PARTSTAT=ACCEPTED;RSVP=TRUE;CN="Joël ST
 RILL Sculpteur":http://www.breizhbook.com/profile/JoelSTRILLSculpteur
END:VEVENT
END:VCALENDAR
