BEGIN:VCALENDAR
PRODID:NingEventWidget-v1
VERSION:2.0
METHOD:PUBLISH
BEGIN:VTIMEZONE
TZID:Europe/Paris
X-LIC-LOCATION:Europe/Paris
BEGIN:DAYLIGHT
TZOFFSETFROM:+0100
TZOFFSETTO:+0200
TZNAME:CEST
DTSTART:19700329T020000
RRULE:FREQ=YEARLY;BYMONTH=3;BYDAY=-1SU
END:DAYLIGHT
BEGIN:STANDARD
TZOFFSETFROM:+0200
TZOFFSETTO:+0100
TZNAME:CET
DTSTART:19701025T030000
RRULE:FREQ=YEARLY;BYMONTH=10;BYDAY=-1SU
END:STANDARD
END:VTIMEZONE
BEGIN:VEVENT
UID:6339722:Event:208236
DTSTAMP:20260423T164050Z
SUMMARY:Cours de sculpture, volume 2013 / 2014 à Vannes en Bretagne s
 ud.
DESCRIPTION:\" Un espace d' expression, de créativité, de rencontres
  et d' échanges \"\n \nMatériaux proposés: Bois, pierre, plâtre, 
 terre, grillage, papier, bandes plâtrées, divers…\n \nUnivers abo
 rdés: Sculpture, Modelage, Moulage, Structures et Volumes, Fresques, 
 Décors ...\n \nMaîtrise des techniques et gestion de l' Outillage -
  Conseils pratiques de mise en œuvre - Coloration - Patine - Installa
 tion…\n \n- Stages et Formations à la carte\nStage de sculpture d'
  initiation et stages de sculpture de perfectionnement à titre privé
  ou professionnel.\nFormation continue en sculpture\nPar modules de 5 
 jours\n \n- Cours de sculpture et volume hebdomadaires\n \norientés
  sur la créativité personnelle, le plaisir de créer plutôt que de 
 copier,\npour adultes ou adolescents, débutants ou confirmés.\nLogem
 ent possible à proximité\n \nTous les renseignements sur le site: 
  http://www.strill.fr\nou : http://strill.fr/WordPress3/\n\nPour en s
 avoir plus, rendez-vous sur http://www.breizhbook.com/events/cours-de-
 sculpture-volume-2013-2014-vannes-en-bretagne-sud
DTSTART;TZID=Europe/Paris:20130923T210000
DTEND;TZID=Europe/Paris:20140625T190000
CATEGORIES:cours, de, sculpture, volume
LOCATION:Atelier de sculpture de Conleau
WEBSITE:http://www.strill.fr
URL:http://www.strill.fr
CONTACT:33297460548
ORGANIZER;CN="Joël STRILL Sculpteur":http://www.breizhbook.com/profil
 e/JoelSTRILLSculpteur
ATTACH;FMTTYPE="image/jpeg":http://storage.ning.com/topology/rest/1.0/
 file/get/3198330772?profile=original
ATTENDEE;ROLE=REQ-PARTICIPANT;PARTSTAT=ACCEPTED;RSVP=TRUE;CN="Joël ST
 RILL Sculpteur":http://www.breizhbook.com/profile/JoelSTRILLSculpteur
END:VEVENT
END:VCALENDAR
