BEGIN:VCALENDAR
PRODID:NingEventWidget-v1
VERSION:2.0
METHOD:PUBLISH
BEGIN:VTIMEZONE
TZID:Europe/Paris
X-LIC-LOCATION:Europe/Paris
BEGIN:DAYLIGHT
TZOFFSETFROM:+0100
TZOFFSETTO:+0200
TZNAME:CEST
DTSTART:19700329T020000
RRULE:FREQ=YEARLY;BYMONTH=3;BYDAY=-1SU
END:DAYLIGHT
BEGIN:STANDARD
TZOFFSETFROM:+0200
TZOFFSETTO:+0100
TZNAME:CET
DTSTART:19701025T030000
RRULE:FREQ=YEARLY;BYMONTH=10;BYDAY=-1SU
END:STANDARD
END:VTIMEZONE
BEGIN:VEVENT
UID:6339722:Event:211504
DTSTAMP:20260423T181825Z
SUMMARY:CONVENTION FITNESS : Dimanche 17.11. 2013
DESCRIPTION:Pour cette convention au Village Oxylane de Betton-Rennes
 , nous accueillerons Armand Rogier et Julien Roy. Caroline Delaporte e
 t Jean-Christophe Madiot animeront également la journée.\n \nArmand
  Rogier :\nPresenter en fitness et en danses urbaines. Diplômé B.E.M
 .F. et DEUG STAPS. Elu “New comer” France 2008 à l’euroconventi
 on de Guillermo Gonzales Vega. 3ème au Championnat de France de Hilo 
 individuel en 2008. Champion du Monde du Trophy Hip-Hop individuel 
 en 2007. 4ème au Championnat de Hilow individuel en 2007. Champion d
 e France de Hip-Hop en 2004 et 2005.\nhttp://armand-rogier.e-monsite.c
 om \nJulien Roy :\npresenter international reconnu pour sa créativit
 é, sa pédagogie et son énergie positive. Formateur fitness au C.R.E
 .P.S. depuis plusieurs années et auteur de plusieurs collections de D
 VD. Son expérience du métier lui permet aujourd’hui de lancer sa p
 ropre formation professionnelle.\nhttp://www.inova-sport.fr\nCaroline 
 Delaporte :\nDiplômée B.P.A;G.F.F. au C.R.E.P.S. de Dinard en 2008. 
 Après plusieurs années passées en région parisienne, Caroline trav
 aille aujourd’hui à L’Orange Bleue de Saint-Malo.\nJean-Christoph
 e Madiot :\ndiplômé B.E.E.S.A.N. / B.E.M.F. au C.R.E.P.S. de Dinard
 . Actuellement, co-gérant de Génération-Fitness et intervenant form
 ateur au Campus de l’Excellence Sportive de Bretagne à Dinard.\n \
 nPROGRAMME du Dimanche 17 Novembre 2013 :\n10h00 : STEP\nArmand Rogie
 r\n11h15 : HILO\nJulien Roy\n13h30 : STEP\nJean-Christophe Madiot\n1
 4h45 : HILO\nCaroline Delaporte\n16h00 : STEP\nJulien Roy \n BANDE
 -ANNONCE :  http://www.youtube.com/watch?v=f2P-aaWmpkw&feature=youtu.
 be\nTARIFS :\n- Règlement envoyé avant le 09 Novembre 2013 :  
      journée = 30 €            1 cours = 10 €\n- 
 Règlement envoyé après le 09 Novembre 2013 :        journ
 e = 40 €            1 cours = 15 €\n- Tarif pour  les
  groupes de 10 personnes ou plus ( journée gratuite pour l’éducate
 ur sportif accompagnant). Attention, ce tarif concerne plusieurs perso
 nnes d’un même club,  d’une même école ou d’une même associ
 ation.\njournée = 25 € / personne  (merci d’envoyer vos inscript
 ions groupées une semaine avant la date de la convention. Merci de bi
 en vouloir indiquer les noms, prénoms, portables et mails de chaque p
 articipant)\n- GRATUIT pour les adhérents de Génération-Fitness (in
 scription indispensable via le formulaire d’inscription)\nRESTAURAT
 ION SUR PLACE : Snack Ekinatcafé\n\nPour en savoir plus, rendez-vous
  sur http://www.breizhbook.com/events/convention-fitness-dimanche-17-1
 1-2013
DTSTART;TZID=Europe/Paris:20131117T000000
DTEND;TZID=Europe/Paris:20131117T235900
CATEGORIES:convention, fitness
LOCATION:Village Oxylane Betton-Rennes
WEBSITE:
URL:
CONTACT:
ORGANIZER;CN=Génération-Fitness:http://www.breizhbook.com/profile/Ge
 nerationFitness
ATTACH;FMTTYPE="image/jpeg":http://storage.ning.com/topology/rest/1.0/
 file/get/3198360962?profile=original
ATTENDEE;ROLE=REQ-PARTICIPANT;PARTSTAT=ACCEPTED;RSVP=TRUE;CN=Générat
 ion-Fitness:http://www.breizhbook.com/profile/GenerationFitness
END:VEVENT
END:VCALENDAR
