BEGIN:VCALENDAR
PRODID:NingEventWidget-v1
VERSION:2.0
METHOD:PUBLISH
BEGIN:VTIMEZONE
TZID:Europe/Paris
X-LIC-LOCATION:Europe/Paris
BEGIN:DAYLIGHT
TZOFFSETFROM:+0100
TZOFFSETTO:+0200
TZNAME:CEST
DTSTART:19700329T020000
RRULE:FREQ=YEARLY;BYMONTH=3;BYDAY=-1SU
END:DAYLIGHT
BEGIN:STANDARD
TZOFFSETFROM:+0200
TZOFFSETTO:+0100
TZNAME:CET
DTSTART:19701025T030000
RRULE:FREQ=YEARLY;BYMONTH=10;BYDAY=-1SU
END:STANDARD
END:VTIMEZONE
BEGIN:VEVENT
UID:6339722:Event:132574
DTSTAMP:20260423T164041Z
SUMMARY:contes et légendes d'ille-et-vilaine
DESCRIPTION:bonjour, voici une synthèse à ma façon de l'imaginaire 
 collectif dans le nord de ce que j'appelle parfois \"Extrême-Orient b
 reton\" !... Un ouvrage de référence, intéressant autant à titre p
 ersonnel, que pour partager avec ses proches, hôtes, etc...\n\nCela s
 'en vient le 5 Octobre aux éditions De Borée : http://www.deboree.co
 m/master.php?pg=book&id=2539\nBien sûr je suis partant pour envisager
  une signature-dédicace, avec option possible de contes en oral...\n\
 nJ'en donne une présentation détaillée ici : http://contes-et-merve
 illes.com/news.php\n\nPour en savoir plus, rendez-vous sur http://www.
 breizhbook.com/events/contes-et-l-gendes-d-ille-et-vilaine
DTSTART;TZID=Europe/Paris:20121005T000000
DTEND;TZID=Europe/Paris:20121031T235900
CATEGORIES:conte
LOCATION:mairie
WEBSITE:http://www.contes-et-merveilles.com/news.php
URL:http://www.contes-et-merveilles.com/news.php
CONTACT:
ORGANIZER;CN=MATHIAS:http://www.breizhbook.com/profile/MATHIAS
ATTACH;FMTTYPE="image/jpeg":http://storage.ning.com/topology/rest/1.0/
 file/get/3198325418?profile=original
ATTENDEE;ROLE=REQ-PARTICIPANT;PARTSTAT=ACCEPTED;RSVP=TRUE;CN=MATHIAS:h
 ttp://www.breizhbook.com/profile/MATHIAS
END:VEVENT
END:VCALENDAR
