BEGIN:VCALENDAR
PRODID:NingEventWidget-v1
VERSION:2.0
METHOD:PUBLISH
BEGIN:VTIMEZONE
TZID:Europe/Paris
X-LIC-LOCATION:Europe/Paris
BEGIN:DAYLIGHT
TZOFFSETFROM:+0100
TZOFFSETTO:+0200
TZNAME:CEST
DTSTART:19700329T020000
RRULE:FREQ=YEARLY;BYMONTH=3;BYDAY=-1SU
END:DAYLIGHT
BEGIN:STANDARD
TZOFFSETFROM:+0200
TZOFFSETTO:+0100
TZNAME:CET
DTSTART:19701025T030000
RRULE:FREQ=YEARLY;BYMONTH=10;BYDAY=-1SU
END:STANDARD
END:VTIMEZONE
BEGIN:VEVENT
UID:6339722:Event:137632
DTSTAMP:20260423T164411Z
SUMMARY:\"Contes et légendes d'Ille-et-Vilaine\" (Bretagne) 488 pages
DESCRIPTION:Ce recueil constitue une véritable invitation au rêve. L
 a matière qui compose ce livre a fait l’objet de riches collectages
  de passionnés.Jean-Pierre Mathias publie là son premier ouvrage, un
 e synthèse, façon conteur, de l'imaginaire collectif répandu dans c
 es contrées qu'il nomme parfois \"Extrême-Orient breton\" !Un livre 
 de référence, intéressant à titre personnel, et aussi pour partage
 r, et offrir !...Les librairies d'I&V en sont bien pourvues, et il est
  également possible d'en faire arriver au plus près ! => http://www.
 deboree.com/master.php?pg=book&id=2539Présentation détaillée ici : 
 http://contes-et-merveilles.com/news.phpJean-Pierre Mathias est l'un d
 es conteurs parmi les plus connus en Ille-et-Vilaine. Depuis plus de 3
 0 ans, il anime veillées et randonnées-contées. A partir des année
 s 70, il a également entrepris de nombreuses recherches, y compris en
  allant à la rencontre des anciens qui avaient connu les longues veil
 lées d'hiver au coin des cheminées. Ils lui ont transmis cette riche
  culture orale qui a su traverser les âges et se perpétuer de géné
 ration en génération.Plusieurs dédicaces sont programmées dans le 
 35 (http://www.contes-et-merveilles.com/agenda.php ), de même que sur
  Paris le 16 décembre (avec prestation-spectacle)... d'autres initiat
 ives peuvent aussi s'envisager ailleurs !\n\nPour en savoir plus, rend
 ez-vous sur http://www.breizhbook.com/events/contes-et-l-gendes-d-ille
 -et-vilaine-bretagne-488-pages
DTSTART;TZID=Europe/Paris:20121023T000000
DTEND;TZID=Europe/Paris:20130130T235900
CATEGORIES:parution
LOCATION:Librairie Libellune
WEBSITE:http://www.contes-et-merveilles.com/agenda.php
URL:http://www.contes-et-merveilles.com/agenda.php
CONTACT:
ORGANIZER;CN=MATHIAS:http://www.breizhbook.com/profile/MATHIAS
ATTACH;FMTTYPE="image/jpeg":http://storage.ning.com/topology/rest/1.0/
 file/get/3198327914?profile=original
ATTENDEE;ROLE=REQ-PARTICIPANT;PARTSTAT=ACCEPTED;RSVP=TRUE;CN=MATHIAS:h
 ttp://www.breizhbook.com/profile/MATHIAS
END:VEVENT
END:VCALENDAR
