BEGIN:VCALENDAR
PRODID:NingEventWidget-v1
VERSION:2.0
METHOD:PUBLISH
BEGIN:VTIMEZONE
TZID:Europe/Paris
X-LIC-LOCATION:Europe/Paris
BEGIN:DAYLIGHT
TZOFFSETFROM:+0100
TZOFFSETTO:+0200
TZNAME:CEST
DTSTART:19700329T020000
RRULE:FREQ=YEARLY;BYMONTH=3;BYDAY=-1SU
END:DAYLIGHT
BEGIN:STANDARD
TZOFFSETFROM:+0200
TZOFFSETTO:+0100
TZNAME:CET
DTSTART:19701025T030000
RRULE:FREQ=YEARLY;BYMONTH=10;BYDAY=-1SU
END:STANDARD
END:VTIMEZONE
BEGIN:VEVENT
UID:6339722:Event:132706
DTSTAMP:20260423T163335Z
SUMMARY:Contes et lÃ©gendes d'Ille-et-Vilaine
DESCRIPTION:Dans le cadre de la 4Ã¨me Ã©dition du festival Contes et M
 er Veillent... et en Ã©cho Ã  la rÃ©cente publication de l'ouvrage du 
 mÃªme nom, je viens ouvrir Ã  un large panorama du nord de mon \"ExtrÃ
 ªme-Orient breton\" oÃ¹ lâ€™imaginaire est roi... Parmi les possibles 
 rÃ©cits, il y a ceux-ci : eAUX origines de \"notre\" univers, les eaux
  de Combourg et de Ville-Cartier, les marÃ©es, la Petite Toute-Belle, 
 Saint Michel et le diable, les rats du Mont-Saint-Michel, les trois ve
 aux dâ€™or, messe de minuit Ã  Rome, merveilleuse origine des craqueli
 ns... Un stand assurera la vente du livre des \"Contes et lÃ©gendes d'
 Ille-et-Vilaine\", Ã©ditÃ© chez De BorÃ©e : http://www.deboree.com/mas
 ter.php?pg=book&id=2539\nhttp://www.missionbretonne.org/fr/agenda/\n\n
 Pour en savoir plus, rendez-vous sur http://www.breizhbook.com/events/
 contes-et-l-gendes-d-ille-et-vilaine-1
DTSTART;TZID=Europe/Paris:20121216T183000
DTEND;TZID=Europe/Paris:20121216T210000
CATEGORIES:conte, et, rencontre-dÃ©dicace, dÃ©dicace
LOCATION:Mission Bretonne
WEBSITE:http://www.contes-et-merveilles.com/agenda.php
URL:http://www.contes-et-merveilles.com/agenda.php
CONTACT:
ORGANIZER;CN=MATHIAS:http://www.breizhbook.com/profile/MATHIAS
ATTACH;FMTTYPE="image/jpeg":http://storage.ning.com/topology/rest/1.0/
 file/get/3198325418?profile=original
ATTENDEE;ROLE=REQ-PARTICIPANT;PARTSTAT=ACCEPTED;RSVP=TRUE;CN=MATHIAS:h
 ttp://www.breizhbook.com/profile/MATHIAS
END:VEVENT
END:VCALENDAR
