BEGIN:VCALENDAR
PRODID:NingEventWidget-v1
VERSION:2.0
METHOD:PUBLISH
BEGIN:VTIMEZONE
TZID:Europe/Paris
X-LIC-LOCATION:Europe/Paris
BEGIN:DAYLIGHT
TZOFFSETFROM:+0100
TZOFFSETTO:+0200
TZNAME:CEST
DTSTART:19700329T020000
RRULE:FREQ=YEARLY;BYMONTH=3;BYDAY=-1SU
END:DAYLIGHT
BEGIN:STANDARD
TZOFFSETFROM:+0200
TZOFFSETTO:+0100
TZNAME:CET
DTSTART:19701025T030000
RRULE:FREQ=YEARLY;BYMONTH=10;BYDAY=-1SU
END:STANDARD
END:VTIMEZONE
BEGIN:VEVENT
UID:6339722:Event:422677
DTSTAMP:20260423T161040Z
SUMMARY:Contes à boire sans modération !
DESCRIPTION:Anthologie de plus de 70 textes : De l’art de boire ! Il
  n’est donc pas bon mon cidre ? Que fermente la bière ! Ah l’eau.
 .. Vin, jus de la treille, dive boisson. Remontants et toniques d’ex
 ception. Exercices spiritueux.\n\nPour en savoir plus, rendez-vous sur
  http://www.breizhbook.com/events/contes-boire-sans-mod-ration
DTSTART;TZID=Europe/Paris:20181208T163000
DTEND;TZID=Europe/Paris:20181208T180000
CATEGORIES:dédicace
LOCATION:librairie L’Encre de Bretagne
WEBSITE:http://encredebretagne.bzh/
URL:http://encredebretagne.bzh/
CONTACT:02 99 63 98 35
ORGANIZER;CN=MATHIAS:http://www.breizhbook.com/profile/MATHIAS
ATTACH;FMTTYPE="image/jpeg":http://storage.ning.com/topology/rest/1.0/
 file/get/3198459486?profile=original
ATTENDEE;ROLE=REQ-PARTICIPANT;PARTSTAT=ACCEPTED;RSVP=TRUE;CN=MATHIAS:h
 ttp://www.breizhbook.com/profile/MATHIAS
END:VEVENT
END:VCALENDAR
