BEGIN:VCALENDAR
PRODID:NingEventWidget-v1
VERSION:2.0
METHOD:PUBLISH
BEGIN:VTIMEZONE
TZID:Europe/Paris
X-LIC-LOCATION:Europe/Paris
BEGIN:DAYLIGHT
TZOFFSETFROM:+0100
TZOFFSETTO:+0200
TZNAME:CEST
DTSTART:19700329T020000
RRULE:FREQ=YEARLY;BYMONTH=3;BYDAY=-1SU
END:DAYLIGHT
BEGIN:STANDARD
TZOFFSETFROM:+0200
TZOFFSETTO:+0100
TZNAME:CET
DTSTART:19701025T030000
RRULE:FREQ=YEARLY;BYMONTH=10;BYDAY=-1SU
END:STANDARD
END:VTIMEZONE
BEGIN:VEVENT
UID:6339722:Event:132455
DTSTAMP:20260423T163541Z
SUMMARY:conte durant la pause ! (balade chantée, contée)
DESCRIPTION:Chants entraînants sur un parcours de 7 kilomètres envir
 on, \"menés\" par Cric Crac, Liffredaine et les Déferlantes... et le
 s marcheuses et marcheurs !... et, \"comme chaque année, je conte dur
 ant la pause\" !Et bien sûr il y aura du cidre et du jus de pomme... 
 offerts !C'est \"le\" meilleur rendez-vous conte que je connaisse !à 
 bon/s entendeur/s ...http://www.lesbordees.fr/le-festival/le-programme
 -2012/\n\nPour en savoir plus, rendez-vous sur http://www.breizhbook.c
 om/events/conte-durant-la-pause-balade-chant-e-cont-e
DTSTART;TZID=Europe/Paris:20121007T093000
DTEND;TZID=Europe/Paris:20121007T120000
CATEGORIES:conte
LOCATION:Port de la Houle
WEBSITE:http://www.contes-et-merveilles.com/agenda.php
URL:http://www.contes-et-merveilles.com/agenda.php
CONTACT:
ORGANIZER;CN=MATHIAS:http://www.breizhbook.com/profile/MATHIAS
ATTACH;FMTTYPE="image/jpeg":http://storage.ning.com/topology/rest/1.0/
 file/get/3198325557?profile=original
ATTENDEE;ROLE=REQ-PARTICIPANT;PARTSTAT=ACCEPTED;RSVP=TRUE;CN=MATHIAS:h
 ttp://www.breizhbook.com/profile/MATHIAS
END:VEVENT
END:VCALENDAR
