BEGIN:VCALENDAR
PRODID:NingEventWidget-v1
VERSION:2.0
METHOD:PUBLISH
BEGIN:VTIMEZONE
TZID:Europe/Paris
X-LIC-LOCATION:Europe/Paris
BEGIN:DAYLIGHT
TZOFFSETFROM:+0100
TZOFFSETTO:+0200
TZNAME:CEST
DTSTART:19700329T020000
RRULE:FREQ=YEARLY;BYMONTH=3;BYDAY=-1SU
END:DAYLIGHT
BEGIN:STANDARD
TZOFFSETFROM:+0200
TZOFFSETTO:+0100
TZNAME:CET
DTSTART:19701025T030000
RRULE:FREQ=YEARLY;BYMONTH=10;BYDAY=-1SU
END:STANDARD
END:VTIMEZONE
BEGIN:VEVENT
UID:6339722:Event:132582
DTSTAMP:20260423T162059Z
SUMMARY:ContÃ©es inter-actives dans le contexte du salon Ille et Bio
DESCRIPTION:ContÃ©es inter-actives dans une yourte avec mÃ©diation de 
 \"l'Ordin@teuRÃ Conte\", en privilÃ©giant les thÃ©matiques de :- les Ã
 ©nergies renouvelables,- l'attention Ã  l'environnement en gÃ©nÃ©ral,-
  l'Ã©conomie et les monnaies complÃ©mentaires [matiÃ¨re puisÃ©e pour p
 artie dans les interventions mises au point pour \"Laissez les sous ve
 nir !...\" donnÃ© au MusÃ©e de Bretagne en 2011].http://www.illeetbio.
 org/salon-ille-et-bio/\n\nPour en savoir plus, rendez-vous sur http://
 www.breizhbook.com/events/cont-es-inter-actives-dans-le-contexte-du-sa
 lon-ille-et-bio
DTSTART;TZID=Europe/Paris:20121013T103000
DTEND;TZID=Europe/Paris:20121013T160000
CATEGORIES:conte
LOCATION:salon Ille et Bio
WEBSITE:http://www.contes-et-merveilles.com/agenda.php
URL:http://www.contes-et-merveilles.com/agenda.php
CONTACT:
ORGANIZER;CN=MATHIAS:http://www.breizhbook.com/profile/MATHIAS
ATTACH;FMTTYPE="image/jpeg":http://storage.ning.com/topology/rest/1.0/
 file/get/3198325502?profile=original
ATTENDEE;ROLE=REQ-PARTICIPANT;PARTSTAT=ACCEPTED;RSVP=TRUE;CN=MATHIAS:h
 ttp://www.breizhbook.com/profile/MATHIAS
END:VEVENT
END:VCALENDAR
