BEGIN:VCALENDAR
PRODID:NingEventWidget-v1
VERSION:2.0
METHOD:PUBLISH
BEGIN:VTIMEZONE
TZID:Europe/Paris
X-LIC-LOCATION:Europe/Paris
BEGIN:DAYLIGHT
TZOFFSETFROM:+0100
TZOFFSETTO:+0200
TZNAME:CEST
DTSTART:19700329T020000
RRULE:FREQ=YEARLY;BYMONTH=3;BYDAY=-1SU
END:DAYLIGHT
BEGIN:STANDARD
TZOFFSETFROM:+0200
TZOFFSETTO:+0100
TZNAME:CET
DTSTART:19701025T030000
RRULE:FREQ=YEARLY;BYMONTH=10;BYDAY=-1SU
END:STANDARD
END:VTIMEZONE
BEGIN:VEVENT
UID:6339722:Event:127220
DTSTAMP:20260423T182008Z
SUMMARY:Conférence de Maud Haymovici auteur du \"Dernier cours d'hist
 oire\"
DESCRIPTION:En partenariat  avec la Mairie de La Trinité sur Mer, Ma
 ud Haymovici fera une conférence :\"Identité bretonne, identité jui
 ve regards croisés.\nVerre de l'amitié offert par le salon de thé T
 ea- Book de la Trinité  et dédicace par l'auteur de son livre \" Le
  dernier cours d'histoire\"\nLundi 23 juillet à 20h30 salle St Jose
 ph\n\nPour en savoir plus, rendez-vous sur http://www.breizhbook.com/e
 vents/conf-rence-de-maud-haymovici-auteur-du-dernier-cours-d-histoire
DTSTART;TZID=Europe/Paris:20120723T180000
DTEND;TZID=Europe/Paris:20120723T190000
CATEGORIES:conférence, et, dédicace
LOCATION:La Trinté sur Mer, salle St Joseph
WEBSITE:
URL:
CONTACT:0671581832
ORGANIZER:Maud Haymovici-
ATTACH;FMTTYPE="image/jpeg":
ATTENDEE;ROLE=REQ-PARTICIPANT;PARTSTAT=ACCEPTED;RSVP=TRUE;CN="Maud Hay
 movici- Blanc":http://www.breizhbook.com/profile/MaudHaymoviciBlanc
END:VEVENT
END:VCALENDAR
