BEGIN:VCALENDAR
PRODID:NingEventWidget-v1
VERSION:2.0
METHOD:PUBLISH
BEGIN:VTIMEZONE
TZID:Europe/Paris
X-LIC-LOCATION:Europe/Paris
BEGIN:DAYLIGHT
TZOFFSETFROM:+0100
TZOFFSETTO:+0200
TZNAME:CEST
DTSTART:19700329T020000
RRULE:FREQ=YEARLY;BYMONTH=3;BYDAY=-1SU
END:DAYLIGHT
BEGIN:STANDARD
TZOFFSETFROM:+0200
TZOFFSETTO:+0100
TZNAME:CET
DTSTART:19701025T030000
RRULE:FREQ=YEARLY;BYMONTH=10;BYDAY=-1SU
END:STANDARD
END:VTIMEZONE
BEGIN:VEVENT
UID:6339722:Event:212700
DTSTAMP:20260423T164426Z
SUMMARY:Concert sur la péniche \"La petite seine\" à Reims
DESCRIPTION:Slamity Jane présentera son premier album 12 titres \"Le 
 souffle des pages\" en spoken word, et Hobaya sera également en conce
 rt avec du reggae, du rock et bien d'autres styles.\n\nPour en savoir 
 plus, rendez-vous sur http://www.breizhbook.com/events/concert-sur-la-
 p-niche-la-petite-seine-reims
DTSTART;TZID=Europe/Paris:20131130T200000
DTEND;TZID=Europe/Paris:20131130T230000
CATEGORIES:concert
LOCATION:Sur le canal Boulevard Henri Henrot, 51100 Reims
WEBSITE:
URL:
CONTACT:
ORGANIZER;CN="Claire Morin":http://www.breizhbook.com/profile/ClaireMo
 rin
ATTACH;FMTTYPE="image/jpeg":http://storage.ning.com/topology/rest/1.0/
 file/get/3198361715?profile=original
ATTENDEE;ROLE=REQ-PARTICIPANT;PARTSTAT=ACCEPTED;RSVP=TRUE;CN="Claire M
 orin":http://www.breizhbook.com/profile/ClaireMorin
END:VEVENT
END:VCALENDAR
