BEGIN:VCALENDAR
PRODID:NingEventWidget-v1
VERSION:2.0
METHOD:PUBLISH
BEGIN:VTIMEZONE
TZID:Europe/Paris
X-LIC-LOCATION:Europe/Paris
BEGIN:DAYLIGHT
TZOFFSETFROM:+0100
TZOFFSETTO:+0200
TZNAME:CEST
DTSTART:19700329T020000
RRULE:FREQ=YEARLY;BYMONTH=3;BYDAY=-1SU
END:DAYLIGHT
BEGIN:STANDARD
TZOFFSETFROM:+0200
TZOFFSETTO:+0100
TZNAME:CET
DTSTART:19701025T030000
RRULE:FREQ=YEARLY;BYMONTH=10;BYDAY=-1SU
END:STANDARD
END:VTIMEZONE
BEGIN:VEVENT
UID:6339722:Event:128257
DTSTAMP:20260423T181331Z
SUMMARY:concert rock celtique
DESCRIPTION:\nDAONET: http://www.myspace.com/daonet Alliant fougue et 
 sensualité, le trio nantais incarne la vitalité du rock chanté en b
 reton, personnifiant l'image d'une Bretagne libre, consciente et tourn
 ée vers l'avenir. Daonet, qui n'a plus sa réputation à faire sur sc
 ène, propose par ses solides rythmiques basse-batterie, sa guitare é
 lectrique incisive et ses voix inspirées, des mélodies diablement ef
 ficaces. Une déferlante d'énergie communicative portant une émotion
  bretonne authentique ... BACK OUEST:\nhttp://www.myspace.com/backoues
 tofficiel/shows Le groupe, évoque la Bretagne, ses combats, sa cultur
 e et ses beautés, le tout sur un rythme endiablé dans le même espri
 t que  Soldat Louis. Back Ouest enchaine les scènes et conquis un la
 rge public. Habitué aux grandes scènes, ayant notamment fait les pre
 mières parties de Soldat Louis, Tri Yann, Emile et Images et plus  r
 écemment avec Nolwenn Leroy\nTROUZ AN NOZ :\nwww.tan.lautre.net Trouz
  an noz, ou Le bruit de la nuit, démarre en 2007 en duo avant de s'en
 tourer deux ans plus tard d'un DJ et de deux choristes bretonnantes. M
 élangeant le breton et le gallo à la sauce rock contestataire, le gr
 oupe s'engage dans un électro-punk métissé aux accents tantôt trad
 itionnels, tantôt reggae, tantôt hardcore, sans se donner de limites
  à  la créativité. Entrée : 8 euros  gratuit -12 ans (petite res
 tauration sur place)\n\nPour en savoir plus, rendez-vous sur http://ww
 w.breizhbook.com/events/concert-rock-celtique
DTSTART;TZID=Europe/Paris:20120728T190000
DTEND;TZID=Europe/Paris:20120728T200000
CATEGORIES:concert, rock, celtique
LOCATION:pont-croix
WEBSITE:
URL:
CONTACT:
ORGANIZER;CN=jordan:http://www.breizhbook.com/profile/jordan
ATTACH;FMTTYPE="image/jpeg":
ATTENDEE;ROLE=REQ-PARTICIPANT;PARTSTAT=ACCEPTED;RSVP=TRUE;CN=jordan:ht
 tp://www.breizhbook.com/profile/jordan
END:VEVENT
END:VCALENDAR
