BEGIN:VCALENDAR
PRODID:NingEventWidget-v1
VERSION:2.0
METHOD:PUBLISH
BEGIN:VTIMEZONE
TZID:Europe/Paris
X-LIC-LOCATION:Europe/Paris
BEGIN:DAYLIGHT
TZOFFSETFROM:+0100
TZOFFSETTO:+0200
TZNAME:CEST
DTSTART:19700329T020000
RRULE:FREQ=YEARLY;BYMONTH=3;BYDAY=-1SU
END:DAYLIGHT
BEGIN:STANDARD
TZOFFSETFROM:+0200
TZOFFSETTO:+0100
TZNAME:CET
DTSTART:19701025T030000
RRULE:FREQ=YEARLY;BYMONTH=10;BYDAY=-1SU
END:STANDARD
END:VTIMEZONE
BEGIN:VEVENT
UID:6339722:Event:187984
DTSTAMP:20260423T163552Z
SUMMARY:Concert des hox
DESCRIPTION:concert du groupe \"hox\" au restaurant La Ribeira à sain
 t samson sur rance. Hox est un groupe pop rock\n\nPour en savoir plus,
  rendez-vous sur http://www.breizhbook.com/events/concert-des-hox
DTSTART;TZID=Europe/Paris:20130705T210000
DTEND;TZID=Europe/Paris:20130705T233000
CATEGORIES:concert
LOCATION:reataurant La Ribeira
WEBSITE:
URL:
CONTACT:
ORGANIZER;CN="sandra ste":http://www.breizhbook.com/profile/sandraste
ATTACH;FMTTYPE="image/jpeg":
ATTENDEE;ROLE=REQ-PARTICIPANT;PARTSTAT=ACCEPTED;RSVP=TRUE;CN="sandra s
 te":http://www.breizhbook.com/profile/sandraste
END:VEVENT
END:VCALENDAR
