BEGIN:VCALENDAR
PRODID:NingEventWidget-v1
VERSION:2.0
METHOD:PUBLISH
BEGIN:VTIMEZONE
TZID:Europe/Paris
X-LIC-LOCATION:Europe/Paris
BEGIN:DAYLIGHT
TZOFFSETFROM:+0100
TZOFFSETTO:+0200
TZNAME:CEST
DTSTART:19700329T020000
RRULE:FREQ=YEARLY;BYMONTH=3;BYDAY=-1SU
END:DAYLIGHT
BEGIN:STANDARD
TZOFFSETFROM:+0200
TZOFFSETTO:+0100
TZNAME:CET
DTSTART:19701025T030000
RRULE:FREQ=YEARLY;BYMONTH=10;BYDAY=-1SU
END:STANDARD
END:VTIMEZONE
BEGIN:VEVENT
UID:6339722:Event:93853
DTSTAMP:20260423T175642Z
SUMMARY:Concert Caisadrum sur l'île de Houat !!!
DESCRIPTION:Concert Solo Caisadrum avec le compositeur Frédéric PERR
 OUX le samedi 19 mai 2012 sur l'île de Houat !!!\nà ne pas manquer !
 !!\nwww.fredericperroux.com\n  \n\n\nPour en savoir plus, rendez-vous
  sur http://www.breizhbook.com/events/concert-caisadrum-sur-l-le-de-ho
 uat
DTSTART;TZID=Europe/Paris:20120519T073000
DTEND;TZID=Europe/Paris:20120519T081500
CATEGORIES:concert
LOCATION:île de Houat
WEBSITE:http://www.communedehouat.fr/
URL:http://www.communedehouat.fr/
CONTACT:
ORGANIZER:L'île de Houat
ATTACH;FMTTYPE="image/jpeg":http://storage.ning.com/topology/rest/1.0/
 file/get/3121573325?profile=original
ATTENDEE;ROLE=REQ-PARTICIPANT;PARTSTAT=ACCEPTED;RSVP=TRUE;CN="Frédér
 ic Perroux":http://www.breizhbook.com/profile/fredericperroux
END:VEVENT
END:VCALENDAR
