BEGIN:VCALENDAR
PRODID:NingEventWidget-v1
VERSION:2.0
METHOD:PUBLISH
BEGIN:VTIMEZONE
TZID:Europe/Paris
X-LIC-LOCATION:Europe/Paris
BEGIN:DAYLIGHT
TZOFFSETFROM:+0100
TZOFFSETTO:+0200
TZNAME:CEST
DTSTART:19700329T020000
RRULE:FREQ=YEARLY;BYMONTH=3;BYDAY=-1SU
END:DAYLIGHT
BEGIN:STANDARD
TZOFFSETFROM:+0200
TZOFFSETTO:+0100
TZNAME:CET
DTSTART:19701025T030000
RRULE:FREQ=YEARLY;BYMONTH=10;BYDAY=-1SU
END:STANDARD
END:VTIMEZONE
BEGIN:VEVENT
UID:6339722:Event:127913
DTSTAMP:20260423T181332Z
SUMMARY:Concert Baroka
DESCRIPTION:Subtil mélange de différentes musiques : traditionnelle,
  jazz, ancienne et orientale. Formation composée de S. Lestideau au v
 iolon, C. Guivarc'h aux percussions et V. Chassagne à la guitare bass
 e.\nEn première partie, l'organiste Michel Cocheril jouera une pièce
  du début des années 1700 à l'orgue nouvellement restauré.\n\nPour
  en savoir plus, rendez-vous sur http://www.breizhbook.com/events/conc
 ert-baroka
DTSTART;TZID=Europe/Paris:20120816T203000
DTEND;TZID=Europe/Paris:20120816T223000
CATEGORIES:concert
LOCATION:Église Saint Goulven
WEBSITE:http://goulven-decouverte.fr
URL:http://goulven-decouverte.fr
CONTACT:
ORGANIZER:Association Goulven-Découverte
ATTACH;FMTTYPE="image/jpeg":http://storage.ning.com/topology/rest/1.0/
 file/get/3097087383?profile=original
ATTENDEE;ROLE=REQ-PARTICIPANT;PARTSTAT=ACCEPTED;RSVP=TRUE;CN="Alain Bo
 uquet":http://www.breizhbook.com/profile/AlainBouquet
END:VEVENT
END:VCALENDAR
