BEGIN:VCALENDAR
PRODID:NingEventWidget-v1
VERSION:2.0
METHOD:PUBLISH
BEGIN:VTIMEZONE
TZID:Europe/Paris
X-LIC-LOCATION:Europe/Paris
BEGIN:DAYLIGHT
TZOFFSETFROM:+0100
TZOFFSETTO:+0200
TZNAME:CEST
DTSTART:19700329T020000
RRULE:FREQ=YEARLY;BYMONTH=3;BYDAY=-1SU
END:DAYLIGHT
BEGIN:STANDARD
TZOFFSETFROM:+0200
TZOFFSETTO:+0100
TZNAME:CET
DTSTART:19701025T030000
RRULE:FREQ=YEARLY;BYMONTH=10;BYDAY=-1SU
END:STANDARD
END:VTIMEZONE
BEGIN:VEVENT
UID:6339722:Event:115717
DTSTAMP:20260423T181332Z
SUMMARY:Concert Azenor
DESCRIPTION:Samedi 14 avril sur l'Azenor Liloo en repas-concert\nAcous
 tique / Folk Rock / Pop\nA partir de 20H\nhttp://www.liloonenfaitquasa
 tete.com/\n\nPour en savoir plus, rendez-vous sur http://www.breizhboo
 k.com/events/concert-azenor
DTSTART;TZID=Europe/Paris:20120414T190000
DTEND;TZID=Europe/Paris:20120414T233000
CATEGORIES:restau, concert
LOCATION:Concert restau croisiere
WEBSITE:http://www.azenor.fr/
URL:http://www.azenor.fr/
CONTACT:
ORGANIZER:Vedettes Azenor
ATTACH;FMTTYPE="image/jpeg":http://storage.ning.com/topology/rest/1.0/
 file/get/3121563138?profile=original
ATTENDEE;ROLE=REQ-PARTICIPANT;PARTSTAT=ACCEPTED;RSVP=TRUE;CN="Marc-arm
 and Calvez":http://www.breizhbook.com/profile/MarcarmandCalvez
END:VEVENT
END:VCALENDAR
