BEGIN:VCALENDAR
PRODID:NingEventWidget-v1
VERSION:2.0
METHOD:PUBLISH
BEGIN:VTIMEZONE
TZID:Europe/Paris
X-LIC-LOCATION:Europe/Paris
BEGIN:DAYLIGHT
TZOFFSETFROM:+0100
TZOFFSETTO:+0200
TZNAME:CEST
DTSTART:19700329T020000
RRULE:FREQ=YEARLY;BYMONTH=3;BYDAY=-1SU
END:DAYLIGHT
BEGIN:STANDARD
TZOFFSETFROM:+0200
TZOFFSETTO:+0100
TZNAME:CET
DTSTART:19701025T030000
RRULE:FREQ=YEARLY;BYMONTH=10;BYDAY=-1SU
END:STANDARD
END:VTIMEZONE
BEGIN:VEVENT
UID:6339722:Event:176229
DTSTAMP:20260423T162059Z
SUMMARY:Concert au Petit Gaveau Ã  Quimper (29)
DESCRIPTION:FormÃ© Ã  la chanson et Ã  la guitare dans sa jeunesse Ã  
 l'Ã©cole Aufray-Allwright, motivÃ© Ã  l'Ã©criture par Vian, Ferrat, BÃ
 ©ranger... mÃ»ri par Brassens et Moustaki, touchÃ© par Perret, Ã©moust
 illÃ© par Renaud ... on retrouve un peu de chacun dans son oeuvre, mÃª
 me si le mÃ©lange final ne ressemble Ã  rien de tout cela, ni Ã  quelq
 ue autre chanteur connu : c'est du Francis WEILL, avec son style, sa p
 ersonnalitÃ©.D'un tempÃ©rament gai, espiÃ¨gle, facÃ©tieux, plein d'ent
 rain et de bonne humeur, on rit beaucoup en l'Ã©coutant. Toutefois, da
 ns un deuxiÃ¨me temps, lorsque l'on s'intÃ©resse au texte, on se rend 
 vite compte que sa plume est trempÃ©e dans le vitriol. C'est juste, c'
 est le reflet de la vie. Ã‡a peut Ãªtre tendre ou fÃ©roce, drÃ´le, coq
 uin, parfois franchement rieur, mais aussi polÃ©mique ou revendicatif.
  Bref, on ne s'ennuie pas. Pourtant, tout cela n'est ni frivole ni gra
 tuit. Autant de chansons drÃ´les sur des sujets sÃ©rieux.Â Les mÃ©lodi
 es sont agrÃ©ables, faciles Ã  mÃ©moriser et Ã  reprendre, les rythmes
  et les styles sont tout aussi variÃ©s que les thÃ¨mes abordÃ©s, allan
 t du jazz Ã  la java en passant par le blues, le rock, le reggae, le s
 lam, la biguine, le folk, la ballade ou la chanson classique.A cÃ´tÃ© 
 de ses propres compositions, Francis propose souvent en concert des in
 terprÃ©tations de Brassens, Brel, Ferrrat ..et quelques autres...que t
 out le monde pourra reprendre avec lui.http://www.francisweill.fr/http
 ://francisweill.musicblog.fr/http://www.zicmeup.com/artiste/franciswei
 ll\n\nPour en savoir plus, rendez-vous sur http://www.breizhbook.com/e
 vents/concert-au-petit-gaveau-quimper-29
DTSTART;TZID=Europe/Paris:20130518T193000
DTEND;TZID=Europe/Paris:20130518T223000
CATEGORIES:concert
LOCATION:Le Petit Gaveau
WEBSITE:https://www.facebook.com/pages/Le-Petit-Gaveau/119374028075234
URL:https://www.facebook.com/pages/Le-Petit-Gaveau/119374028075234
CONTACT:02 98 64 29 86
ORGANIZER:Le Petit Gaveau
ATTACH;FMTTYPE="image/jpeg":http://storage.ning.com/topology/rest/1.0/
 file/get/3198354224?profile=original
ATTENDEE;ROLE=REQ-PARTICIPANT;PARTSTAT=ACCEPTED;RSVP=TRUE;CN="Francis 
 Weill":http://www.breizhbook.com/profile/FrancisWeill
END:VEVENT
END:VCALENDAR
