BEGIN:VCALENDAR
PRODID:NingEventWidget-v1
VERSION:2.0
METHOD:PUBLISH
BEGIN:VTIMEZONE
TZID:Europe/Paris
X-LIC-LOCATION:Europe/Paris
BEGIN:DAYLIGHT
TZOFFSETFROM:+0100
TZOFFSETTO:+0200
TZNAME:CEST
DTSTART:19700329T020000
RRULE:FREQ=YEARLY;BYMONTH=3;BYDAY=-1SU
END:DAYLIGHT
BEGIN:STANDARD
TZOFFSETFROM:+0200
TZOFFSETTO:+0100
TZNAME:CET
DTSTART:19701025T030000
RRULE:FREQ=YEARLY;BYMONTH=10;BYDAY=-1SU
END:STANDARD
END:VTIMEZONE
BEGIN:VEVENT
UID:6339722:Event:157044
DTSTAMP:20260423T181325Z
SUMMARY:Concert
DESCRIPTION:Concert d'Indochine'\n\nPour en savoir plus, rendez-vous s
 ur http://www.breizhbook.com/events/concert-1
DTSTART;TZID=Europe/Paris:20130323T000000
DTEND;TZID=Europe/Paris:20130323T235900
CATEGORIES:concert
LOCATION:Par des expositions de Penfeld
WEBSITE:
URL:
CONTACT:
ORGANIZER:Indochine
ATTACH;FMTTYPE="image/jpeg":
ATTENDEE;ROLE=REQ-PARTICIPANT;PARTSTAT=ACCEPTED;RSVP=TRUE;CN="Yuna Bre
 izhad":http://www.breizhbook.com/profile/SoleneBreizhad
END:VEVENT
END:VCALENDAR
