BEGIN:VCALENDAR
PRODID:NingEventWidget-v1
VERSION:2.0
METHOD:PUBLISH
BEGIN:VTIMEZONE
TZID:Europe/Paris
X-LIC-LOCATION:Europe/Paris
BEGIN:DAYLIGHT
TZOFFSETFROM:+0100
TZOFFSETTO:+0200
TZNAME:CEST
DTSTART:19700329T020000
RRULE:FREQ=YEARLY;BYMONTH=3;BYDAY=-1SU
END:DAYLIGHT
BEGIN:STANDARD
TZOFFSETFROM:+0200
TZOFFSETTO:+0100
TZNAME:CET
DTSTART:19701025T030000
RRULE:FREQ=YEARLY;BYMONTH=10;BYDAY=-1SU
END:STANDARD
END:VTIMEZONE
BEGIN:VEVENT
UID:6339722:Event:119176
DTSTAMP:20260423T180111Z
SUMMARY:Ce week-end des 12 et 13 mai : FETE DE LA NATURE en BROCELIAND
 E
DESCRIPTION:Tout le programme sous : http://www.fetedelanature.com/dec
 ouvrir-le-programme/animation?id_animation=1300\n\n\nPour en savoir pl
 us, rendez-vous sur http://www.breizhbook.com/events/ce-week-end-des-1
 2-et-13-mai-fete-de-la-nature-en-broceliande
DTSTART;TZID=Europe/Paris:20120512T090000
DTEND;TZID=Europe/Paris:20120513T180000
CATEGORIES:nature
LOCATION:à POINT CLOS, entre GAEL (35) et CONCORET (56)
WEBSITE:
URL:
CONTACT:
ORGANIZER;CN="Les copeaux de MERLIN":http://www.breizhbook.com/profile
 /LESCOPEAUXDEMERLIN
ATTACH;FMTTYPE="image/jpeg":http://storage.ning.com/topology/rest/1.0/
 file/get/3198314232?profile=original
ATTENDEE;ROLE=REQ-PARTICIPANT;PARTSTAT=ACCEPTED;RSVP=TRUE;CN="Les cope
 aux de MERLIN":http://www.breizhbook.com/profile/LESCOPEAUXDEMERLIN
END:VEVENT
END:VCALENDAR
